BEGIN:VCALENDAR
VERSION:2.0
PRODID:-//jEvents 2.0 for Joomla//EN
CALSCALE:GREGORIAN
METHOD:PUBLISH
BEGIN:VTIMEZONE
TZID:Europe/Berlin
BEGIN:STANDARD
DTSTART:20221030T020000
RDATE:20230326T030000
TZOFFSETFROM:+0200
TZOFFSETTO:+0100
TZNAME:Europe/Berlin CET
END:STANDARD
BEGIN:STANDARD
DTSTART:20231029T020000
RDATE:20240331T030000
TZOFFSETFROM:+0200
TZOFFSETTO:+0100
TZNAME:Europe/Berlin CET
END:STANDARD
BEGIN:STANDARD
DTSTART:20241027T020000
RDATE:20250330T030000
TZOFFSETFROM:+0200
TZOFFSETTO:+0100
TZNAME:Europe/Berlin CET
END:STANDARD
BEGIN:STANDARD
DTSTART:20251026T020000
RDATE:20260329T030000
TZOFFSETFROM:+0200
TZOFFSETTO:+0100
TZNAME:Europe/Berlin CET
END:STANDARD
BEGIN:DAYLIGHT
DTSTART:20220505T170000
RDATE:20221030T020000
TZOFFSETFROM:+0100
TZOFFSETTO:+0200
TZNAME:Europe/Berlin CEST
END:DAYLIGHT
BEGIN:DAYLIGHT
DTSTART:20230326T030000
RDATE:20231029T020000
TZOFFSETFROM:+0100
TZOFFSETTO:+0200
TZNAME:Europe/Berlin CEST
END:DAYLIGHT
BEGIN:DAYLIGHT
DTSTART:20240331T030000
RDATE:20241027T020000
TZOFFSETFROM:+0100
TZOFFSETTO:+0200
TZNAME:Europe/Berlin CEST
END:DAYLIGHT
BEGIN:DAYLIGHT
DTSTART:20250330T030000
RDATE:20251026T020000
TZOFFSETFROM:+0100
TZOFFSETTO:+0200
TZNAME:Europe/Berlin CEST
END:DAYLIGHT
END:VTIMEZONE
BEGIN:VEVENT
UID:0a14816529889e34120c6f13b816bd2f
CATEGORIES:DEFAULT
CREATED:20230109T222705
SUMMARY:14. IPF-RIES Halbmarathon
LOCATION:Nördlingen
URL;VALUE=URI:https://lg-donau-ries.de/index.php/component/jevents/icalrepeat.detail/2023
 /05/06/161/-/14-ipf-ries-halbmarathon?Itemid=1&amp;tmpl=component
DESCRIPTION:Ausrichter:\nTSV Nördlingen / LG Donau – Ries\nTV Bopfingen\nStartzeiten:\n
 17:00 Uhr\nStrecke:\nHalbmarathon von Bopfingen nach Nördlingen über Trocht
 elfingen, Utzmemmingen, Nähermemmingen, Holheim und Kleinerdlingen\nStart a
 m Marktplatz in 73441 Bopfingen\nZiel am Reimlinger Tor in 86720 Nördlingen
 \nStreckenlänge:\n21,1 km\nMeldungen:\nausschließlich online unter ipf-ries
 -halbmarathon.de (https://ipf-ries-halbmarathon.de)\nAnneliese Zinke, Gusta
 v – Stresemann – Straße 37\n86720 Nördlingen\nAnfragen unter Diese E-Mail-A
 dresse ist vor Spambots geschützt! Zur Anzeige muss JavaScript eingeschalte
 t sein.\nMeldeschluss:\n24. April 2023\nNachmeldungen:\nam Veranstaltungsta
 g von 12.00 bis 16:00 am Start in Bopfingen\n(Schranne) \nNachmeldegebühr: 
 4 €\nStartgeld:\n25 € bis 27.02. / 27 € bis 03.04. / 29 € bis 26.04.\nAlle 
 Voranmelder erhalten ein Funktionsshirt!\nAuszeichnungen:\nDie 3 erstplatzi
 erten Männer und Frauen erhalten Preisgelder.\n(150 / 100 / 70 €)\nStaffelw
 ertung:\n3 Personen teilen sich die Strecke (ca. 5, 7 und 9 km)\nSonstiges:
 \nDie Teilnahme ist für alle gesunden und trainierten Personen ab 16 Jahren
  offen, Vereinszugehörigkeit ist nicht erforderlich.\nParken in Bopfingen a
 uf dem Sechtaparkplatz\nParken in Nördlingen bei der Turnhalle Augsburger S
 traße.\nVon 19.30 – 21.30 Uhr verkehrt ein Pendelbus zwischen Nördlingen un
 d Bopfingen.\n \n This event was imported from: https://lg-donau-ries.de/in
 dex.php/component/jevents/icalrepeat.detail/2023/05/06/161/-/14-ipf-ries-ha
 lbmarathon?Itemid=1&amp;tmpl=component
X-ALT-DESC;FMTTYPE=text/html:<table border="1" cellspacing="?" cellpadding="?"><tbody><tr><td valign="to
 p" width="156"><p>Ausrichter:</p></td><td valign="top" width="458"><p>TSV N
 ördlingen / LG Donau – Ries</p><p>TV Bopfingen</p></td></tr><tr><td valign=
 "top" width="156"><p>Startzeiten:</p></td><td valign="top" width="458"><p><
 strong>17:00 Uhr</strong></p></td></tr><tr><td valign="top" width="156"><p>
 Strecke:</p></td><td valign="top" width="458"><p>Halbmarathon von <strong>B
 opfingen nach Nördlingen </strong>über Trochtelfingen, Utzmemmingen, Näherm
 emmingen, Holheim und Kleinerdlingen<br />Start am Marktplatz in 73441 Bopf
 ingen<br />Ziel am Reimlinger Tor in 86720 Nördlingen</p></td></tr><tr><td 
 valign="top" width="156"><p>Streckenlänge:</p></td><td valign="top" width="
 458"><p>21,1 km</p></td></tr><tr><td valign="top" width="156"><p>Meldungen:
 </p></td><td valign="top" width="458"><p>ausschließlich online unter <a hre
 f="https://ipf-ries-halbmarathon.de" target="_blank" rel="noopener noreferr
 er">ipf-ries-halbmarathon.de</a></p><p>Anneliese Zinke, Gustav – Stresemann
  – Straße 37</p><p>86720 Nördlingen</p><p>Anfragen unter <joomla-hidden-mai
 l  is-link="1" is-email="1" first="aW5mbw==" last="aXBmLXJpZXMtaGFsYm1hcmF0
 aG9uLmRl" text="aW5mb0BpcGYtcmllcy1oYWxibWFyYXRob24uZGU=" base=""  target="
 _blank" rel="noopener noreferrer">Diese E-Mail-Adresse ist vor Spambots ges
 chützt! Zur Anzeige muss JavaScript eingeschaltet sein.</joomla-hidden-mail
 ></p></td></tr><tr><td valign="top" width="156"><p>Meldeschluss:</p></td><t
 d valign="top" width="458"><p>24. April 2023</p></td></tr><tr><td valign="t
 op" width="156"><p>Nachmeldungen:</p></td><td valign="top" width="458"><p>a
 m Veranstaltungstag von 12.00 bis 16:00 am Start in Bopfingen<br />(Schrann
 e) </p><p>Nachmeldegebühr: 4 €</p></td></tr><tr><td valign="top" width="156
 "><p>Startgeld:</p></td><td valign="top" width="458"><p>25 € bis 27.02. / 2
 7 € bis 03.04. / 29 € bis 26.04.</p><p>Alle Voranmelder erhalten ein Funkti
 onsshirt!</p></td></tr><tr><td valign="top" width="156"><p>Auszeichnungen:<
 /p></td><td valign="top" width="458"><p>Die 3 erstplatzierten Männer und Fr
 auen erhalten Preisgelder.</p><p>(150 / 100 / 70 €)</p></td></tr><tr><td va
 lign="top" width="156"><p>Staffelwertung:</p></td><td valign="top" width="4
 58"><p>3 Personen teilen sich die Strecke (ca. 5, 7 und 9 km)</p></td></tr>
 <tr><td valign="top" width="156"><p>Sonstiges:</p></td><td valign="top" wid
 th="458"><p>Die Teilnahme ist für alle gesunden und trainierten Personen ab
  16 Jahren offen, Vereinszugehörigkeit ist nicht erforderlich.</p><p>Parken
  in Bopfingen auf dem Sechtaparkplatz</p><p>Parken in Nördlingen bei der Tu
 rnhalle Augsburger Straße.</p><p>Von 19.30 – 21.30 Uhr verkehrt ein Pendelb
 us zwischen Nördlingen und Bopfingen.</p></td></tr></tbody></table><p> </p>
  <a href="https://lg-donau-ries.de/index.php/component/jevents/icalrepeat.d
 etail/2023/05/06/161/-/14-ipf-ries-halbmarathon?Itemid=1&amp;tmpl=component
 ">This event was imported from: https://lg-donau-ries.de/index.php/componen
 t/jevents/icalrepeat.detail/2023/05/06/161/-/14-ipf-ries-halbmarathon?Itemi
 d=1&amp;tmpl=component</a>X-EXTRAINFO:ipf-ries-halbmarathon.de
DTSTAMP:20260423T205415
DTSTART;TZID=Europe/Berlin:20230506T170000
SEQUENCE:0
TRANSP:OPAQUE
END:VEVENT
END:VCALENDAR