BEGIN:VCALENDAR
VERSION:2.0
PRODID:-//jEvents 2.0 for Joomla//EN
CALSCALE:GREGORIAN
METHOD:PUBLISH
BEGIN:VTIMEZONE
TZID:Europe/Berlin
BEGIN:STANDARD
DTSTART:20221030T020000
RDATE:20230326T030000
TZOFFSETFROM:+0200
TZOFFSETTO:+0100
TZNAME:Europe/Berlin CET
END:STANDARD
BEGIN:STANDARD
DTSTART:20231029T020000
RDATE:20240331T030000
TZOFFSETFROM:+0200
TZOFFSETTO:+0100
TZNAME:Europe/Berlin CET
END:STANDARD
BEGIN:STANDARD
DTSTART:20241027T020000
RDATE:20250330T030000
TZOFFSETFROM:+0200
TZOFFSETTO:+0100
TZNAME:Europe/Berlin CET
END:STANDARD
BEGIN:STANDARD
DTSTART:20251026T020000
RDATE:20260329T030000
TZOFFSETFROM:+0200
TZOFFSETTO:+0100
TZNAME:Europe/Berlin CET
END:STANDARD
BEGIN:DAYLIGHT
DTSTART:20220506T143000
RDATE:20221030T020000
TZOFFSETFROM:+0100
TZOFFSETTO:+0200
TZNAME:Europe/Berlin CEST
END:DAYLIGHT
BEGIN:DAYLIGHT
DTSTART:20230326T030000
RDATE:20231029T020000
TZOFFSETFROM:+0100
TZOFFSETTO:+0200
TZNAME:Europe/Berlin CEST
END:DAYLIGHT
BEGIN:DAYLIGHT
DTSTART:20240331T030000
RDATE:20241027T020000
TZOFFSETFROM:+0100
TZOFFSETTO:+0200
TZNAME:Europe/Berlin CEST
END:DAYLIGHT
BEGIN:DAYLIGHT
DTSTART:20250330T030000
RDATE:20251026T020000
TZOFFSETFROM:+0100
TZOFFSETTO:+0200
TZNAME:Europe/Berlin CEST
END:DAYLIGHT
END:VTIMEZONE
BEGIN:VEVENT
UID:e38ac155ed12f25f3df1c79763a0d1e7
CATEGORIES:DEFAULT
CREATED:20230110T214409
SUMMARY:11. WOHA Intersport Sprint- und Laufmeeting
LOCATION:Donauwörth
URL;VALUE=URI:https://lg-donau-ries.de/index.php/component/jevents/icalrepeat.detail/2023
 /05/07/163/-/11-woha-intersport-sprint-und-laufmeeting?Itemid=1&amp;tmpl=co
 mponent
DESCRIPTION:Ausrichter:\nLG Donau-Ries/LG Zusam\nTermin:\nSonntag, 07.05.2023\nBeginn: 
 14.30 Uhr\nWettkampfort:\nStauferparkstadion (Neudegger Allee) in Donauwört
 h\nvollelektronische Zeitnahme!!!\nMeldungen:\nJochen Weber, Deutschmeister
 ring 61, 86609 Donauwörth\nE-Mail: Diese E-Mail-Adresse ist vor Spambots ge
 schützt! Zur Anzeige muss JavaScript eingeschaltet sein.\nOnline Meldung un
 ter LADV\nNachmeldungen:\nbis 60 Minuten vor dem jeweiligen Start im Wettka
 mpfbüro möglich!! Keine Nachmeldegebühr!\nGebühren:\nAktive 8,00 Euro, U20/
 U18 6,00 Euro, U16/U14 4,00 Euro, Kinder U12/U10 3,50 Euro\nWettbewerbe und
  Zeitplan14.30 Uhr\n300 m Hü\nJugend W14, W15, M14, M15\n14.40 Uhr\n400 m H
 ü\nJugend (m/w) U18/U20, Frauen, Männer\n15.00 Uhr\n100 m\nMänner, Männlich
 e Jugend U18/U20\n15.10 Uhr\n100 m\nFrauen, Weibliche Jugend U18/U20\n15.20
  Uhr\n100 m\nJugend W14, W15, M14, M15\n15.40 Uhr\n75 m\nJugend W12, W13, M
 12, M13\n15.55 Uhr\n50 m\nKinder M10, M11\n16.10 Uhr\n50 m\nKinder W10, W11
 \n16.25 Uhr\n200 m\nMänner, Männliche Jugend U18/U20\n16.40 Uhr\n200 m\nFra
 uen, Weibliche Jugend U18/U20\n16.55 Uhr\n300 m\nJugend W14, W15, M14, M15\
 n17.10 Uhr\n800 m\nKinder M10, M11\n17.25 Uhr\n800 m\nKinder W10, W11\n17.4
 0 Uhr\n800 m\nJugend M12, M13, M14, M15, U18, U20, Männer\n17.50 Uhr\n800 m
 \nJugend W12, W13, W14, W15, U18, U20, Frauen\n18.00 Uhr\n400 m\nMänner/ Mä
 nnliche Jugend U18/U20\n18.15 Uhr\n400 m\nFrauen/ Weibliche Jugend U18/U20\
 n18.30 Uhr\n5000 m\nMänner/Frauen/Männliche Jugend U18/U20/\nWeibliche Juge
 nd U18/U20\nKreismeisterschaft M/F\nDie Meldungen der 5000 m LäuferInnen mü
 ssen wegen der Laufeinteilung bis spätestens eine Stunde vorher vorliegen.\
 nBeim 5000 m Lauf stehen für die Frauen bei einer Zeit unter 18:00 Minuten 
 und für die Herren bei einer Zeit unter 15:00 Minuten Einkaufsgutscheine (j
 e 150 Euro) zur Verfügung. Werden die Zeiten von mehreren LäuferInnen errei
 cht, werden die Einkaufsgutscheine von 150 Euro unter diesen in gleichen Te
 ilen aufgeteilt.\nErgebnisliste ab 08.05.2023 unter https://vsc-don-la.de (
 https://vsc-don-la.de).\n \n This event was imported from: https://lg-donau
 -ries.de/index.php/component/jevents/icalrepeat.detail/2023/05/07/163/-/11-
 woha-intersport-sprint-und-laufmeeting?Itemid=1&amp;tmpl=component
X-ALT-DESC;FMTTYPE=text/html:<table style="letter-spacing: 0px;" border="1" cellspacing="?" cellpadding=
 "?"><tbody><tr><td valign="top" width="157"><p>Ausrichter:</p></td><td vali
 gn="top" width="462"><p>LG Donau-Ries/LG Zusam</p></td></tr><tr><td valign=
 "top" width="157"><p>Termin:</p></td><td valign="top" width="462"><p><stron
 g>Sonntag, 07.05.2023</strong></p><p><strong>Beginn: 14.30 Uhr</strong></p>
 </td></tr><tr><td valign="top" width="157"><p>Wettkampfort:</p></td><td val
 ign="top" width="462"><p>Stauferparkstadion (Neudegger Allee) in Donauwörth
 </p><p>vollelektronische Zeitnahme!!!</p></td></tr><tr><td valign="top" wid
 th="157"><p>Meldungen:</p></td><td valign="top" width="462"><p>Jochen Weber
 , Deutschmeisterring 61, 86609 Donauwörth</p><p>E-Mail: <joomla-hidden-mail
   is-link="1" is-email="1" first="d2ViZXJqb2NoZW4=" last="Z214LmRl" text="d
 2ViZXJqb2NoZW5AZ214LmRl" base="" >Diese E-Mail-Adresse ist vor Spambots ges
 chützt! Zur Anzeige muss JavaScript eingeschaltet sein.</joomla-hidden-mail
 ></p><p>Online Meldung unter LADV</p></td></tr><tr><td valign="top" width="
 157"><p>Nachmeldungen:</p></td><td valign="top" width="462"><p>bis 60 Minut
 en vor dem jeweiligen Start im Wettkampfbüro möglich!! Keine Nachmeldegebüh
 r!</p></td></tr><tr><td valign="top" width="157"><p>Gebühren:</p></td><td v
 align="top" width="462"><p>Aktive 8,00 Euro, U20/U18 6,00 Euro, U16/U14 4,0
 0 Euro, Kinder U12/U10 3,50 Euro</p></td></tr></tbody></table><h2><strong>W
 ettbewerbe und Zeitplan</strong></h2><table border="1" cellspacing="cellspa
 cing" cellpadding="cellpadding"><tbody><tr><td valign="top" width="85"><p>1
 4.30 Uhr</p></td><td valign="top" width="72"><p>300 m Hü</p></td><td valign
 ="top" width="462"><p>Jugend W14, W15, M14, M15</p></td></tr><tr><td valign
 ="top" width="85"><p>14.40 Uhr</p></td><td valign="top" width="72"><p>400 m
  Hü</p></td><td valign="top" width="462"><p>Jugend (m/w) U18/U20, Frauen, M
 änner</p></td></tr><tr><td valign="top" width="85"><p>15.00 Uhr</p></td><td
  valign="top" width="72"><p>100 m</p></td><td valign="top" width="462"><p>M
 änner, Männliche Jugend U18/U20</p></td></tr><tr><td valign="top" width="85
 "><p>15.10 Uhr</p></td><td valign="top" width="72"><p>100 m</p></td><td val
 ign="top" width="462"><p>Frauen, Weibliche Jugend U18/U20</p></td></tr><tr>
 <td valign="top" width="85"><p>15.20 Uhr</p></td><td valign="top" width="72
 "><p>100 m</p></td><td valign="top" width="462"><p>Jugend W14, W15, M14, M1
 5</p></td></tr><tr><td valign="top" width="85"><p>15.40 Uhr</p></td><td val
 ign="top" width="72"><p>75 m</p></td><td valign="top" width="462"><p>Jugend
  W12, W13, M12, M13</p></td></tr><tr><td valign="top" width="85"><p>15.55 U
 hr</p></td><td valign="top" width="72"><p>50 m</p></td><td valign="top" wid
 th="462"><p>Kinder M10, M11</p></td></tr><tr><td valign="top" width="85"><p
 >16.10 Uhr</p></td><td valign="top" width="72"><p>50 m</p></td><td valign="
 top" width="462"><p>Kinder W10, W11</p></td></tr><tr><td valign="top" width
 ="85"><p>16.25 Uhr</p></td><td valign="top" width="72"><p>200 m</p></td><td
  valign="top" width="462"><p>Männer, Männliche Jugend U18/U20</p></td></tr>
 <tr><td valign="top" width="85"><p>16.40 Uhr</p></td><td valign="top" width
 ="72"><p>200 m</p></td><td valign="top" width="462"><p>Frauen, Weibliche Ju
 gend U18/U20</p></td></tr><tr><td valign="top" width="85"><p>16.55 Uhr</p><
 /td><td valign="top" width="72"><p>300 m</p></td><td valign="top" width="46
 2"><p>Jugend W14, W15, M14, M15</p></td></tr><tr><td valign="top" width="85
 "><p>17.10 Uhr</p></td><td valign="top" width="72"><p>800 m</p></td><td val
 ign="top" width="462"><p class="MsoNormal">Kinder M10, M11</p></td></tr><tr
 ><td valign="top" width="85"><p>17.25 Uhr</p></td><td valign="top" width="7
 2"><p>800 m</p></td><td valign="top" width="462"><p>Kinder W10, W11</p></td
 ></tr><tr><td valign="top" width="85"><p>17.40 Uhr</p></td><td valign="top"
  width="72"><p>800 m</p></td><td valign="top" width="462"><p>Jugend M12, M1
 3, M14, M15, U18, U20, Männer</p></td></tr><tr><td valign="top" width="85">
 <p>17.50 Uhr</p></td><td valign="top" width="72"><p>800 m</p></td><td valig
 n="top" width="462"><p>Jugend W12, W13, W14, W15, U18, U20, Frauen</p></td>
 </tr><tr><td valign="top" width="85"><p>18.00 Uhr</p></td><td valign="top" 
 width="72"><p>400 m</p></td><td valign="top" width="462"><p>Männer/ Männlic
 he Jugend U18/U20</p></td></tr><tr><td valign="top" width="85"><p>18.15 Uhr
 </p></td><td valign="top" width="72"><p>400 m</p></td><td valign="top" widt
 h="462"><p>Frauen/ Weibliche Jugend U18/U20</p></td></tr><tr><td valign="to
 p" width="85"><p>18.30 Uhr</p></td><td valign="top" width="72"><p>5000 m</p
 ></td><td valign="top" width="462"><p>Männer/Frauen/Männliche Jugend U18/U2
 0/</p><p>Weibliche Jugend U18/U20</p><p><strong>Kreismeisterschaft M/F</str
 ong></p></td></tr><tr><td colspan="3" valign="top" width="619"><p>Die Meldu
 ngen der 5000 m LäuferInnen müssen wegen der Laufeinteilung bis spätestens 
 eine Stunde vorher vorliegen.</p><p>Beim 5000 m Lauf stehen für die Frauen 
 bei einer Zeit unter 18:00 Minuten und für die Herren bei einer Zeit unter 
 15:00 Minuten Einkaufsgutscheine (je 150 Euro) zur Verfügung. Werden die Ze
 iten von mehreren LäuferInnen erreicht, werden die Einkaufsgutscheine von 1
 50 Euro unter diesen in gleichen Teilen aufgeteilt.</p><p>Ergebnisliste ab 
 08.05.2023 unter <a href="https://vsc-don-la.de" target="_blank" rel="alter
 nate noopener noreferrer">https://vsc-don-la.de</a>.</p></td></tr></tbody><
 /table><p> </p> <a href="https://lg-donau-ries.de/index.php/component/jeven
 ts/icalrepeat.detail/2023/05/07/163/-/11-woha-intersport-sprint-und-laufmee
 ting?Itemid=1&amp;tmpl=component">This event was imported from: https://lg-
 donau-ries.de/index.php/component/jevents/icalrepeat.detail/2023/05/07/163/
 -/11-woha-intersport-sprint-und-laufmeeting?Itemid=1&amp;tmpl=component</a>DTSTAMP:20260423T205258
DTSTART;TZID=Europe/Berlin:20230507T143000
SEQUENCE:0
TRANSP:OPAQUE
END:VEVENT
END:VCALENDAR