BEGIN:VCALENDAR
VERSION:2.0
PRODID:-//jEvents 2.0 for Joomla//EN
CALSCALE:GREGORIAN
METHOD:PUBLISH
BEGIN:VTIMEZONE
TZID:Europe/Berlin
BEGIN:STANDARD
DTSTART:20221030T020000
RDATE:20230326T030000
TZOFFSETFROM:+0200
TZOFFSETTO:+0100
TZNAME:Europe/Berlin CET
END:STANDARD
BEGIN:STANDARD
DTSTART:20231029T020000
RDATE:20240331T030000
TZOFFSETFROM:+0200
TZOFFSETTO:+0100
TZNAME:Europe/Berlin CET
END:STANDARD
BEGIN:STANDARD
DTSTART:20241027T020000
RDATE:20250330T030000
TZOFFSETFROM:+0200
TZOFFSETTO:+0100
TZNAME:Europe/Berlin CET
END:STANDARD
BEGIN:STANDARD
DTSTART:20251026T020000
RDATE:20260329T030000
TZOFFSETFROM:+0200
TZOFFSETTO:+0100
TZNAME:Europe/Berlin CET
END:STANDARD
BEGIN:DAYLIGHT
DTSTART:20220623T100000
RDATE:20221030T020000
TZOFFSETFROM:+0100
TZOFFSETTO:+0200
TZNAME:Europe/Berlin CEST
END:DAYLIGHT
BEGIN:DAYLIGHT
DTSTART:20230326T030000
RDATE:20231029T020000
TZOFFSETFROM:+0100
TZOFFSETTO:+0200
TZNAME:Europe/Berlin CEST
END:DAYLIGHT
BEGIN:DAYLIGHT
DTSTART:20240331T030000
RDATE:20241027T020000
TZOFFSETFROM:+0100
TZOFFSETTO:+0200
TZNAME:Europe/Berlin CEST
END:DAYLIGHT
BEGIN:DAYLIGHT
DTSTART:20250330T030000
RDATE:20251026T020000
TZOFFSETFROM:+0100
TZOFFSETTO:+0200
TZNAME:Europe/Berlin CEST
END:DAYLIGHT
END:VTIMEZONE
BEGIN:VEVENT
UID:2a60aabc6f5de59148665548fa790ad6
CATEGORIES:DEFAULT
CREATED:20230407T123209
SUMMARY:Kinderleichtathletik U12, U8 und U10 (Kreis-Sieger-Wertung)
LOCATION:86641 Rain\, Georg-Weber Stadtion
URL;VALUE=URI:https://lg-donau-ries.de/index.php/component/jevents/icalrepeat.detail/2023
 /06/24/169/-/kinderleichtathletik-u12-u8-und-u10-kreis-sieger-wertung?Itemi
 d=1&amp;tmpl=component
DESCRIPTION:\nBeginn 10:00 Uhr bzw. 13:30 Uhr\n\nAusrichter: LG Donau-Ries (TSV Rain)\n
 \nWettkampfort: Georg-Weber-Stadion, Donauwörther Straße 45 in 86641 Rain\n
 \nWettbewerbe:\nU8 (Jahrgang 2016/2017): Beginn 10:00 Uhr\n\n30-m-Hindernis
 -Sprintstaffel (4 Hindernisse, Abstand 5 m)\nStabweitsprung\nSchlagwurf (Te
 nnisball)\nBiathlon-Staffel\n\nU10 (Jahrgang 2014/2015): Beginn 10:00 Uhr\n
 \n30-m-Hindernis-Sprintstaffel (4 Hindernisse, Abstand 5 m)\nStabweitsprung
 \nSchlagwurf (Tennisball)\nBiathlon-Staffel\n\nU12 (Jahrgang 2012/2013): Be
 ginn 13:30 Uhr\n\n6 x 40-m-Hindernis-Sprintstaffel (5 Hindernisse, Abstand 
 6 m)\nStabsprung\nSchlagwurf (Heuler)\nVerfolgungs-Staffel\n\nMeldungen: Na
 mentlich mit Jahrgang bis 17. Juni 2023 an Manfred Wollner, Diese E-Mail-Ad
 resse ist vor Spambots geschützt! Zur Anzeige muss JavaScript eingeschaltet
  sein.\n\nHinweise: Bei Diebstahl und Unfall übernimmt der TSV Rain keine H
 aftung.\n\nDie Durchführung der Wettkämpfe erfolgt nach dem Konzept der Kin
 derleichtathletik\n\nKeine Nachmeldungen am Wettkampftag. Änderungen sind j
 ederzeit möglich\n This event was imported from: https://lg-donau-ries.de/i
 ndex.php/component/jevents/icalrepeat.detail/2023/06/24/169/-/kinderleichta
 thletik-u12-u8-und-u10-kreis-sieger-wertung?Itemid=1&amp;tmpl=component
X-ALT-DESC;FMTTYPE=text/html:<p><br /><span style="font-family: arial, helvetica, sans-serif; font-size:
  12pt;"><span dir="ltr" style="left: 234.667px; top: 197.833px; transform: 
 scaleX(0.968727);"><strong>Beginn</strong> 10:00 Uh</span><span dir="ltr" s
 tyle="left: 372.5px; top: 197.833px; transform: scaleX(0.956634);">r bzw. 1
 3:30 Uhr</span></span></p><p><br /><span style="font-family: arial, helveti
 ca, sans-serif; font-size: 12pt;"><strong><span dir="ltr" style="left: 94.6
 667px; top: 236.167px; transform: scaleX(1.03393);">Ausrichter:</span> </st
 rong><span dir="ltr" style="left: 234.667px; top: 236.167px; transform: sca
 leX(1.01413);">LG Donau-Ries (TSV Rain)</span></span></p><p><br /><span sty
 le="font-family: arial, helvetica, sans-serif; font-size: 12pt;"><strong><s
 pan dir="ltr" style="left: 94.6667px; top: 274.5px; transform: scaleX(1.029
 14);">Wettkampfort:</span></strong> <span dir="ltr" style="left: 234.667px;
  top: 274.5px; transform: scaleX(0.959553);">Georg-Weber-Stadion, </span><s
 pan dir="ltr" style="left: 234.667px; top: 297.5px; transform: scaleX(0.925
 394);">Donauwörther Straße 45 in </span><span dir="ltr" style="left: 234.66
 7px; top: 320.5px; transform: scaleX(0.94087);">86641 Rain</span></span></p
 ><p><br /><span style="font-size: 20px;"><strong><span dir="ltr" style="lef
 t: 94.6667px; top: 358.833px; font-family: serif; transform: scaleX(0.99633
 9);">Wettbewerbe:</span></strong></span></p><p><span style="font-family: ar
 ial, helvetica, sans-serif; font-size: 12pt;"><span style="text-decoration:
  underline;"><span dir="ltr" style="left: 234.667px; top: 358.833px; transf
 orm: scaleX(0.920866);">U8 (Jahrgang 2016/2017)</span></span><span dir="ltr
 " style="left: 439.833px; top: 358.833px; transform: scaleX(0.968274);"><sp
 an style="text-decoration: underline;">:</span> Beginn 10:00 Uhr</span></sp
 an></p><p><br /><span dir="ltr" style="left: 234.667px; top: 381.833px; fon
 t-size: 12pt; font-family: arial, helvetica, sans-serif; transform: scaleX(
 0.941138);">30-m-Hindernis-Sprintstaffel (4 Hindernisse, Abstand 5 m)</span
 ><br /><span dir="ltr" style="left: 234.667px; top: 404.833px; font-size: 1
 2pt; font-family: arial, helvetica, sans-serif; transform: scaleX(0.945815)
 ;">Stabweitsprung</span><br /><span dir="ltr" style="left: 234.667px; top: 
 427.833px; font-size: 12pt; font-family: arial, helvetica, sans-serif; tran
 sform: scaleX(0.941002);">Schlagwurf (Tennisball)</span><br /><span dir="lt
 r" style="left: 234.667px; top: 450.833px; font-size: 12pt; font-family: ar
 ial, helvetica, sans-serif; transform: scaleX(0.971263);">Biathlon-Staffel<
 /span></p><p><br /><span style="font-family: arial, helvetica, sans-serif; 
 font-size: 12pt;"><span style="text-decoration: underline;"><span dir="ltr"
  style="left: 234.667px; top: 489.167px; transform: scaleX(0.920049);">U10 
 (Jahrgang 2014/2015)</span></span><span dir="ltr" style="left: 449.833px; t
 op: 489.167px; transform: scaleX(0.968274);"><span style="text-decoration: 
 underline;">:</span> Beginn 10:00 Uhr</span></span></p><p><br /><span dir="
 ltr" style="left: 234.667px; top: 512.167px; font-size: 12pt; font-family: 
 arial, helvetica, sans-serif; transform: scaleX(0.941138);">30-m-Hindernis-
 Sprintstaffel (4 Hindernisse, Abstand 5 m)</span><br /><span dir="ltr" styl
 e="left: 234.667px; top: 535.167px; font-size: 12pt; font-family: arial, he
 lvetica, sans-serif; transform: scaleX(0.945815);">Stabweitsprung</span><br
  /><span dir="ltr" style="left: 234.667px; top: 558.167px; font-size: 12pt;
  font-family: arial, helvetica, sans-serif; transform: scaleX(0.941002);">S
 chlagwurf (Tennisball)</span><br /><span dir="ltr" style="left: 234.667px; 
 top: 581.167px; font-size: 12pt; font-family: arial, helvetica, sans-serif;
  transform: scaleX(0.971263);">Biathlon-Staffel</span></p><p><br /><span st
 yle="font-family: arial, helvetica, sans-serif; font-size: 12pt;"><span sty
 le="text-decoration: underline;"><span dir="ltr" style="left: 234.667px; to
 p: 619.5px; transform: scaleX(0.917224);">U12 (Jahrgang 2012/2013)</span></
 span><span dir="ltr" style="left: 449.167px; top: 619.5px; transform: scale
 X(0.968274);"><span style="text-decoration: underline;">:</span> Beginn 13:
 30 Uhr</span></span></p><p><br /><span dir="ltr" style="left: 234.667px; to
 p: 642.5px; font-size: 12pt; font-family: arial, helvetica, sans-serif; tra
 nsform: scaleX(0.945287);">6 x 40-m-Hindernis-Sprintstaffel (5 Hindernisse,
  Abstand 6 m)</span><br /><span dir="ltr" style="left: 234.667px; top: 665.
 5px; font-size: 12pt; font-family: arial, helvetica, sans-serif; transform:
  scaleX(0.933964);">Stabsprung</span><br /><span dir="ltr" style="left: 234
 .667px; top: 688.5px; font-size: 12pt; font-family: arial, helvetica, sans-
 serif; transform: scaleX(0.929862);">Schlagwurf (Heuler)</span><br /><span 
 style="font-family: arial, helvetica, sans-serif;"><span style="font-size: 
 16px;">Verfolgungs-Staffel</span></span></p><p><br /><span style="font-fami
 ly: arial, helvetica, sans-serif; font-size: 12pt;"><strong><span dir="ltr"
  style="left: 94.6667px; top: 749.833px; transform: scaleX(1.02336);">Meldu
 ngen:</span> </strong><span dir="ltr" style="left: 234.667px; top: 749.833p
 x; transform: scaleX(0.95541);">Namentlich mit Jahrgang bis 17. Juni 2023 a
 n </span><span dir="ltr" style="left: 234.667px; top: 772.833px; transform:
  scaleX(0.9486);">Manfred Wollner, </span></span><span dir="ltr" style="lef
 t: 234.667px; top: 795.833px; font-size: 12pt; font-family: arial, helvetic
 a, sans-serif; transform: scaleX(0.940114);"><joomla-hidden-mail  is-link="
 1" is-email="1" first="bWFuZnJlZC53b2xsbmVy" last="d2ViLmRl" text="bWFuZnJl
 ZC53b2xsbmVyQHdlYi5kZQ==" base="" >Diese E-Mail-Adresse ist vor Spambots ge
 schützt! Zur Anzeige muss JavaScript eingeschaltet sein.</joomla-hidden-mai
 l></span></p><p><br /><span style="font-family: arial, helvetica, sans-seri
 f; font-size: 12pt;"><span dir="ltr" style="left: 94.6667px; top: 834.167px
 ; transform: scaleX(0.999605);">Hinweise:</span> <span dir="ltr" style="lef
 t: 234.667px; top: 834.167px; transform: scaleX(0.968776);">Bei Diebstahl u
 nd Unfall übernimmt der TSV Rain keine Haftung.</span></span></p><p><br /><
 span style="font-family: arial, helvetica, sans-serif; font-size: 12pt;"><s
 pan dir="ltr" style="left: 234.667px; top: 857.167px; transform: scaleX(0.9
 47725);">Die Durchführung der Wettkämpfe erfolgt nach dem Konzept der </spa
 n><span dir="ltr" style="left: 234.667px; top: 880.167px; transform: scaleX
 (0.933087);">Kinderleichtathletik</span></span></p><p><br /><span style="fo
 nt-family: arial, helvetica, sans-serif; font-size: 12pt;"><span dir="ltr" 
 style="left: 234.667px; top: 903.167px; transform: scaleX(0.949368);">Keine
  Nachmeldungen am Wettkampftag. </span><span dir="ltr" style="left: 234.667
 px; top: 926.167px; transform: scaleX(0.942503);">Änderungen sind jederzeit
  möglich</span></span></p> <a href="https://lg-donau-ries.de/index.php/comp
 onent/jevents/icalrepeat.detail/2023/06/24/169/-/kinderleichtathletik-u12-u
 8-und-u10-kreis-sieger-wertung?Itemid=1&amp;tmpl=component">This event was 
 imported from: https://lg-donau-ries.de/index.php/component/jevents/icalrep
 eat.detail/2023/06/24/169/-/kinderleichtathletik-u12-u8-und-u10-kreis-siege
 r-wertung?Itemid=1&amp;tmpl=component</a>CONTACT:Diese E-Mail-Adresse ist vor Spambots geschützt! Zur Anzeige muss JavaScript eingeschaltet sein.
DTSTAMP:20260423T193446
DTSTART;TZID=Europe/Berlin:20230624T100000
DTEND;TZID=Europe/Berlin:20230624T170000
SEQUENCE:0
TRANSP:OPAQUE
END:VEVENT
END:VCALENDAR