BEGIN:VCALENDAR
VERSION:2.0
PRODID:-//jEvents 2.0 for Joomla//EN
CALSCALE:GREGORIAN
METHOD:PUBLISH
BEGIN:VTIMEZONE
TZID:Europe/Berlin
BEGIN:STANDARD
DTSTART:20221030T020000
RDATE:20230326T030000
TZOFFSETFROM:+0200
TZOFFSETTO:+0100
TZNAME:Europe/Berlin CET
END:STANDARD
BEGIN:STANDARD
DTSTART:20231029T020000
RDATE:20240331T030000
TZOFFSETFROM:+0200
TZOFFSETTO:+0100
TZNAME:Europe/Berlin CET
END:STANDARD
BEGIN:STANDARD
DTSTART:20241027T020000
RDATE:20250330T030000
TZOFFSETFROM:+0200
TZOFFSETTO:+0100
TZNAME:Europe/Berlin CET
END:STANDARD
BEGIN:STANDARD
DTSTART:20251026T020000
RDATE:20260329T030000
TZOFFSETFROM:+0200
TZOFFSETTO:+0100
TZNAME:Europe/Berlin CET
END:STANDARD
BEGIN:DAYLIGHT
DTSTART:20220630T060000
RDATE:20221030T020000
TZOFFSETFROM:+0100
TZOFFSETTO:+0200
TZNAME:Europe/Berlin CEST
END:DAYLIGHT
BEGIN:DAYLIGHT
DTSTART:20230326T030000
RDATE:20231029T020000
TZOFFSETFROM:+0100
TZOFFSETTO:+0200
TZNAME:Europe/Berlin CEST
END:DAYLIGHT
BEGIN:DAYLIGHT
DTSTART:20240331T030000
RDATE:20241027T020000
TZOFFSETFROM:+0100
TZOFFSETTO:+0200
TZNAME:Europe/Berlin CEST
END:DAYLIGHT
BEGIN:DAYLIGHT
DTSTART:20250330T030000
RDATE:20251026T020000
TZOFFSETFROM:+0100
TZOFFSETTO:+0200
TZNAME:Europe/Berlin CEST
END:DAYLIGHT
END:VTIMEZONE
BEGIN:VEVENT
UID:af4257aaacba8ea27f8c08201cead71d
CATEGORIES:DEFAULT
CREATED:20230407T123909
SUMMARY:Virtueller St.-Anna-Jedermannslauf, Amerdingen auf Originalstrecke
LOCATION:Amerdingen
URL;VALUE=URI:https://lg-donau-ries.de/index.php/component/jevents/icalrepeat.detail/2023
 /07/01/170/-/virtueller-st-anna-jedermannslauf-amerdingen-auf-originalstrec
 ke?Itemid=1&amp;tmpl=component
DESCRIPTION:Ausrichter:\nSV Amerdingen / LG Donau-Ries\n  Startzeiten:\n01.07.23 bis 30
 .07.23, 15.00 h – jeweils mit Nutzung der Spoferan App\n  Strecken\nüberwie
 gend Feld- u. Waldwege und Asphalt\n \n1.\nHauptlauf-Erwachsene und Jugend\
 nZu den „Drei Steine/Rennweg“\nM/W – JU18, U20, M/W, AK30/35, AK40/45, AK50
 /55, AK60/65, AK70 u. älter\nca. 10 km\n \n2.Jogging-/Walking-Lauf\nOhne Ja
 hrgangsbeschränkung – getrennte Wertung Jogging M/W und Walking M/Wca. 5,8 
 km \n3.\nJugendlauf\nM/W- KU10, KU12, JU14, JU16\nca. 3 km\n \n \n \n \nSta
 rt und Ziel:\nsüdlich Sportplatz Amerdingen, Eglinger Str. 15, \n86735 Amer
 dingen\n \n \n \n \nStartgebühren:\n1. Hauptlauf Erwachsene und Jugend\n5,-
 - Euro\n \n2. Jogging-/Walking-Lauf\n4,-  Euro\n \n3. Jugendlauf\n3,-  Euro
 \n \nDer Erlös geht an die St.-Anna-Stiftung zum Erhalt der Kapelle\n \n \n
  \n \nSiegerehrung\nim Festzelt am Sportheim am 30.07.2023, 17.30 Uhr\n  \n
 Anmeldungen:\n01.05.2023 bis 30.07.2023  unter www.sv-amerdingen.de (http:/
 /www.sv-amerdingen.de) \noder www.spoferan.com (http://www.spoferan.com)\n 
 \n \n \n \nPreise erhalten:\nPlatz 1  der jeweiligen AK M/W in Haupt- u. Ju
 gend-Lauf\nsowie getrennt gewertete Jogging- u. Walking-Lauf\n-größte Teiln
 ehmergruppe\n \n \n \n \nErgebnisliste:\nim Internet unter www.sv-amerdinge
 n.de (http://www.sv-amerdingen.de)\n \n \n \n \nSonstiges:\nUmkleide- und D
 uschmöglichkeit in der Turnhalle u. Sportheim\n \n \n \n \nWeitere Infos:\n
 www.sv-amerdingen.de (http://www.sv-amerdingen.de) - 09089492 – Diese E-Mai
 l-Adresse ist vor Spambots geschützt! Zur Anzeige muss JavaScript eingescha
 ltet sein.\nEngelbert Wiedemann 09089727\n \n \n \n \n This event was impor
 ted from: https://lg-donau-ries.de/index.php/component/jevents/icalrepeat.d
 etail/2023/07/01/170/-/virtueller-st-anna-jedermannslauf-amerdingen-auf-ori
 ginalstrecke?Itemid=1&amp;tmpl=component
X-ALT-DESC;FMTTYPE=text/html:<table style="width: 655px;"><tbody><tr><td style="width: 139px;"><p><stron
 g>Ausrichter:</strong></p></td><td style="width: 488px;" colspan="3"><p><st
 rong>SV Amerdingen / LG Donau-Ries</strong></p></td></tr><tr><td style="wid
 th: 139px;"> </td><td style="width: 488px;" colspan="3"> </td></tr><tr><td 
 style="width: 139px;"><p><strong>Startzeiten:</strong></p></td><td style="w
 idth: 488px;" colspan="3"><p><strong>01.07.23 bis 30.07.23, 15.00 h – jewei
 ls mit Nutzung der Spoferan App</strong></p></td></tr><tr><td style="width:
  139px;"> </td><td style="width: 488px;" colspan="3"> </td></tr><tr><td sty
 le="width: 139px;"><p><strong>Strecken</strong></p></td><td style="width: 4
 88px;" colspan="3"><p><strong>überwiegend Feld- u. Waldwege und Asphalt</st
 rong></p></td></tr><tr><td style="width: 139px;"><p> </p></td><td style="wi
 dth: 27px;"><p><strong>1.</strong></p></td><td style="width: 366px;"><p><st
 rong>Hauptlauf-Erwachsene und Jugend<br /></strong><strong>Zu den „Drei Ste
 ine/Rennweg“<br /></strong><strong>M/W – JU18, U20, M/W, AK30/35, </strong>
 <strong>AK40/45, AK50/55, AK60/65, AK70 u. älter</strong></p></td><td style
 ="width: 95px;"><p><strong>ca. 10 km</strong></p></td></tr><tr><td style="w
 idth: 139px;"><p> </p></td><td style="width: 27px;"><strong>2.</strong></td
 ><td style="width: 366px;"><strong>Jogging-/Walking-Lauf<br /></strong><str
 ong>Ohne Jahrgangsbeschränkung – getrennte Wertung Jogging M/W und Walking 
 M/W</strong></td><td style="width: 95px;"><strong>ca. 5,8 km</strong></td><
 /tr><tr><td style="width: 139px;"><p> </p></td><td style="width: 27px;"><p>
 <strong>3.</strong></p></td><td style="width: 366px;"><p><strong>Jugendlauf
 <br /></strong><strong>M/W- KU10, KU12, JU14, JU16</strong></p></td><td sty
 le="width: 95px;"><p><strong>ca. 3 km</strong></p></td></tr><tr><td style="
 width: 139px;"><p> </p></td><td style="width: 27px;"><p> </p></td><td style
 ="width: 366px;"><p> </p></td><td style="width: 95px;"><p> </p></td></tr><t
 r><td style="width: 139px;"><p><strong>Start und Ziel:</strong></p></td><td
  style="width: 488px;" colspan="3"><p><strong>südlich Sportplatz Amerdingen
 , Eglinger Str. 15, <br />86735 Amerdingen</strong></p></td></tr><tr><td st
 yle="width: 139px;"><p> </p></td><td style="width: 27px;"><p> </p></td><td 
 style="width: 366px;"><p> </p></td><td style="width: 95px;"><p> </p></td></
 tr><tr><td style="width: 139px;"><p><strong>Startgebühren:</strong></p></td
 ><td style="width: 393px;" colspan="2"><p><strong>1. Hauptlauf Erwachsene u
 nd Jugend</strong></p></td><td style="width: 95px;"><p><strong>5,-- Euro</s
 trong></p></td></tr><tr><td style="width: 139px;"><p> </p></td><td style="w
 idth: 393px;" colspan="2"><p><strong>2. Jogging-/Walking-Lauf</strong></p><
 /td><td style="width: 95px;"><p><strong>4,-  Euro</strong></p></td></tr><tr
 ><td style="width: 139px;"><p> </p></td><td style="width: 393px;" colspan="
 2"><p><strong>3. Jugendlauf</strong></p></td><td style="width: 95px;"><p><s
 trong>3,-  Euro</strong></p></td></tr><tr><td style="width: 139px;"><p> </p
 ></td><td style="width: 488px;" colspan="3"><p><strong>Der Erlös geht an di
 e St.-Anna-Stiftung zum Erhalt der Kapelle</strong></p></td></tr><tr><td st
 yle="width: 139px;"><p> </p></td><td style="width: 27px;"><p> </p></td><td 
 style="width: 366px;"><p> </p></td><td style="width: 95px;"><p> </p></td></
 tr><tr><td style="width: 139px;"><p><strong>Siegerehrung</strong></p></td><
 td style="width: 488px;" colspan="3"><p><strong>im Festzelt am Sportheim am
  30.07.2023, 17.30 Uhr</strong></p></td></tr><tr><td style="width: 139px;">
  </td><td style="width: 488px;" colspan="3"><p> </p></td></tr><tr><td style
 ="width: 139px;"><p><strong>Anmeldungen:</strong></p></td><td style="width:
  488px;" colspan="3"><p><strong>01.05.2023 bis 30.07.2023  unter <a href="h
 ttp://www.sv-amerdingen.de" target="_blank" rel="noopener noreferrer">www.s
 v-amerdingen.de</a> <br />oder <a href="http://www.spoferan.com" target="_b
 lank" rel="noopener noreferrer">www.spoferan.com</a></strong></p></td></tr>
 <tr><td style="width: 139px;"><p> </p></td><td style="width: 27px;"><p> </p
 ></td><td style="width: 366px;"><p> </p></td><td style="width: 95px;"><p> <
 /p></td></tr><tr><td style="width: 139px;"><p><strong>Preise erhalten:</str
 ong></p></td><td style="width: 488px;" colspan="3"><p><strong>Platz 1  der 
 jeweiligen AK M/W in Haupt- u. Jugend-Lauf<br />sowie getrennt gewertete Jo
 gging- u. Walking-Lauf<br />-größte Teilnehmergruppe</strong></p></td></tr>
 <tr><td style="width: 139px;"><p> </p></td><td style="width: 27px;"><p> </p
 ></td><td style="width: 366px;"><p> </p></td><td style="width: 95px;"><p> <
 /p></td></tr><tr><td style="width: 139px;"><p><strong>Ergebnisliste:</stron
 g></p></td><td style="width: 488px;" colspan="3"><p><strong>im Internet unt
 er <a href="http://www.sv-amerdingen.de" target="_blank" rel="noopener nore
 ferrer">www.sv-amerdingen.de</a></strong></p></td></tr><tr><td style="width
 : 139px;"><p> </p></td><td style="width: 27px;"><p> </p></td><td style="wid
 th: 366px;"><p> </p></td><td style="width: 95px;"><p> </p></td></tr><tr><td
  style="width: 139px;"><p><strong>Sonstiges:</strong></p></td><td style="wi
 dth: 488px;" colspan="3"><p><strong>Umkleide- und Duschmöglichkeit in der T
 urnhalle u. Sportheim</strong></p></td></tr><tr><td style="width: 139px;"><
 p> </p></td><td style="width: 27px;"><p> </p></td><td style="width: 366px;"
 ><p> </p></td><td style="width: 95px;"><p> </p></td></tr><tr><td style="wid
 th: 139px;"><p><strong>Weitere Infos:</strong></p></td><td style="width: 48
 8px;" colspan="3"><p><strong><a href="http://www.sv-amerdingen.de" target="
 _blank" rel="noopener noreferrer">www.sv-amerdingen.de</a> - 09089492 – <jo
 omla-hidden-mail  is-link="1" is-email="1" first="aW5mbw==" last="c3YtYW1lc
 mRpbmdlbi5kZQ==" text="aW5mb0Bzdi1hbWVyZGluZ2VuLmRl" base="" >Diese E-Mail-
 Adresse ist vor Spambots geschützt! Zur Anzeige muss JavaScript eingeschalt
 et sein.</joomla-hidden-mail></strong></p><p><strong>Engelbert Wiedemann 09
 089727</strong></p></td></tr><tr><td style="width: 139px;"><p> </p></td><td
  style="width: 27px;"><p> </p></td><td style="width: 366px;"><p> </p></td><
 td style="width: 95px;"><p> </p></td></tr></tbody></table> <a href="https:/
 /lg-donau-ries.de/index.php/component/jevents/icalrepeat.detail/2023/07/01/
 170/-/virtueller-st-anna-jedermannslauf-amerdingen-auf-originalstrecke?Item
 id=1&amp;tmpl=component">This event was imported from: https://lg-donau-rie
 s.de/index.php/component/jevents/icalrepeat.detail/2023/07/01/170/-/virtuel
 ler-st-anna-jedermannslauf-amerdingen-auf-originalstrecke?Itemid=1&amp;tmpl
 =component</a>DTSTAMP:20260423T182546
DTSTART;TZID=Europe/Berlin:20230701T060000
DTEND;TZID=Europe/Berlin:20230730T150000
SEQUENCE:0
TRANSP:OPAQUE
END:VEVENT
END:VCALENDAR