BEGIN:VCALENDAR
VERSION:2.0
PRODID:-//jEvents 2.0 for Joomla//EN
CALSCALE:GREGORIAN
METHOD:PUBLISH
BEGIN:VTIMEZONE
TZID:Europe/Berlin
BEGIN:STANDARD
DTSTART:20221030T020000
RDATE:20230326T030000
TZOFFSETFROM:+0200
TZOFFSETTO:+0100
TZNAME:Europe/Berlin CET
END:STANDARD
BEGIN:STANDARD
DTSTART:20231029T020000
RDATE:20240331T030000
TZOFFSETFROM:+0200
TZOFFSETTO:+0100
TZNAME:Europe/Berlin CET
END:STANDARD
BEGIN:STANDARD
DTSTART:20241027T020000
RDATE:20250330T030000
TZOFFSETFROM:+0200
TZOFFSETTO:+0100
TZNAME:Europe/Berlin CET
END:STANDARD
BEGIN:STANDARD
DTSTART:20251026T020000
RDATE:20260329T030000
TZOFFSETFROM:+0200
TZOFFSETTO:+0100
TZNAME:Europe/Berlin CET
END:STANDARD
BEGIN:DAYLIGHT
DTSTART:20220916T090000
RDATE:20221030T020000
TZOFFSETFROM:+0100
TZOFFSETTO:+0200
TZNAME:Europe/Berlin CEST
END:DAYLIGHT
BEGIN:DAYLIGHT
DTSTART:20230326T030000
RDATE:20231029T020000
TZOFFSETFROM:+0100
TZOFFSETTO:+0200
TZNAME:Europe/Berlin CEST
END:DAYLIGHT
BEGIN:DAYLIGHT
DTSTART:20240331T030000
RDATE:20241027T020000
TZOFFSETFROM:+0100
TZOFFSETTO:+0200
TZNAME:Europe/Berlin CEST
END:DAYLIGHT
BEGIN:DAYLIGHT
DTSTART:20250330T030000
RDATE:20251026T020000
TZOFFSETFROM:+0100
TZOFFSETTO:+0200
TZNAME:Europe/Berlin CEST
END:DAYLIGHT
END:VTIMEZONE
BEGIN:VEVENT
UID:dcbe0e63b576adf0d409f3eee664c535
CATEGORIES:DEFAULT
CREATED:20230711T231209
SUMMARY:Bocksportfest 2023
LOCATION:„Bock“ bei Harburg
URL;VALUE=URI:https://lg-donau-ries.de/index.php/component/jevents/icalrepeat.detail/2023
 /09/17/175/-/bocksportfest-2023?Itemid=1&amp;tmpl=component
DESCRIPTION:Ausrichter\nTSV Harburg, Freundeskreis Bocksportfest\nOrt\n„Bock“ bei Harbu
 rg, Landkreis Donau-Ries\nZeitplan09.00 Uhr: Eröffnung am Ehrenmal\n09.30 U
 hr: Wettkampf W01 bis W07\n10.30 Uhr: Wettkampf W08 bis W13\nab 12.00 Uhr: 
 W21 Staffeln „Rund um den Bock“\n                      W22 Steinstoß-Staffe
 ln\n                      W23 Maßkrug-Staffeln\nab 12.30 Uhr: Siegerehrung\
 nZusätzlichWährend der Wettkämpfe am Vormittag können alle Teilnehmer und B
 esucher des Bocksportfestes bei alten Kinderspielen mitmachen\nAnmeldungRos
 a Wersinger\nDonauwörther Str. 4, 86655 Harburg\nTelefon: 09080 /1543 und 0
 152/53810287\nE-Mail: Diese E-Mail-Adresse ist vor Spambots geschützt! Zur 
 Anzeige muss JavaScript eingeschaltet sein.\nNachmeldung vor Ortbis spätest
 ens eine Stunde vor WettkampfbeginnMeldegebührenErwachsene ab 18 J. 4,00 €\
 nJugendliche 12-18 J. 2,00 €\nKinder bis 12 J. 1,00 €\nAuszeichnungenWander
 preise für die Sieger der Wettkämpfe W01 und W01a\nW 01: Steinbock, W 01a: 
 Gämse\nEhrenpreisefür die Einzel- und Staffelsieger\nUrkunden für alle Teil
 nehmer\nSonstigesZelten ist nur auf dem sog. „Bockfestplatz“ unterhalb des 
 Sendeturmes erlaubt (bitte unbedingt beachten)\nWasser, Strom und Toiletten
  sind dort vorhanden.\nAchtungDas Gebiet um den „Bock“ ist Landschaftsschut
 zgebiet und bedarf daher besonderer Schonung! Selbständige Müllentsorgung. 
 \nWir laden euch alle zum diesjährigen Bocksportfest recht herzlich ein und
  würden uns über zahlreiche Beteiligung sehr freuen.\n \nWettkämpfe\nW01 6-
 Kampf Männer\nalle Jahrgänge 100 m, Weitsprung, Steinstoß, Schleuderball (1
 ,5kg), Geländelauf, HindernisbahnW01a 6-Kampf Frauen\nalle Jahrgänge 100m, 
 Weitsprung, Steinstoß, Schleuderball (1kg), Geländelauf, HindernisbahnW024-
 Kampf Männer\nalle Jahrgänge 100m, Weitsprung, Steinstoß, Schleuderball (1,
 5kg)W034-Kampf Frauen\nalle Jahrgänge 100m, Weitsprung, Steinstoß, Schleude
 rball (1kg)W045-Kampf männl. Jgd. A\nJahrgang 04+05 100m, Weitsprung, Stein
 stoß, Schleuderball (1kg), GeländelaufW055-Kampf männl. Jgd. B\nJahrgang 06
 +07 100m, Weitsprung, SteinstoßW064-Kampf weibl. Jgd. A\nJahrgang 04+05 100
 m, Weitsprung, Steinstoß, Schleuderball (1kg)W074-Kampf weibl. Jgd. B\nJahr
 gang 06+07 100m, Weitsprung, SteinstoßW084-Kampf Männer 30-39\nJahrgang 92-
 83 100m, Weitsprung, Steinstoß, SchleuderballW094-Kampf Männer 40-49\nJahrg
 ang 82-73 75m, Weitsprung (nach Wahl aus dem Stand), Steinstoß, Schleuderba
 llW104-Kampf Männer 50-59\nJahrgang 72-63 50m, Weitsprung aus dem Stand, St
 einstoß, SchleuderballW114-Kampf Männer 60-69\nJahrgang 62-53 50m, Weitspru
 ng aus dem Stand, Steinstoß, SchleuderballW11a4-Kampf Männer\nJahrgang 52 u
 nd älter 50m, Weitsprung aus dem Stand, Steinstoß, SchleuderballW12a3-Kampf
  Schüler A\nJahrgang 08+09 100m, Weitsprung, Schlagball (200g)W12b3-Kampf S
 chüler B\nJahrgang 10+11 75m, Weitsprung, Schlagball (80g)W12c3-Kampf Schül
 er C\nJahrgang 12+13 50m, Weitsprung, Schlagball (80g)W12d3-Kampf Schüler D
 \nJahrgang 14+15 50m, Weitsprung, Schlagball (80g)W12e3-Kampf Schüler E\nJa
 hrgang 16 und jünger 50m, Weitsprung, Schlagball (80g)W13a3-Kampf Schülerin
 nen A\nJahrgang 09+08 100m, Weitsprung, Schlagball 80g)W13b3-Kampf Schüleri
 nnen B\nJahrgang 10+11 75m, Weitsprung, Schlagball(80g)W13c3-Kampf Schüleri
 nnen C\nJahrgang 12+13 50m, Weitsprung, Schlagball (80g)W13d3-Kampf Schüler
 innen D\nJahrgang 14+15 50m, Weitsprung, Schlagball (80g)W13e 3-Kampf Schül
 erinnen E\nJahrgang 16 und jünger 50m, Weitsprung, Schlagball (80g)W21Staff
 eln „Rund um den Bock“  (4 x ca. 140m)W22Steinstoß-Staffeln (6 Werfer)W23Ma
 ßkrug-Staffeln (6 x 30m)\noffen für alle Jahrgänge als Staffelstab dient ei
 n mit Wasser gefüllter Maßkrug\nEntscheidend für die Wertung ist:\n - die g
 elaufene Zeit\n - die nach Zieleinlauf noch vorhandene Wassermenge(1cm Verl
 ust = 2 Strafsekunden) This event was imported from: https://lg-donau-ries.
 de/index.php/component/jevents/icalrepeat.detail/2023/09/17/175/-/bocksport
 fest-2023?Itemid=1&amp;tmpl=component
X-ALT-DESC;FMTTYPE=text/html:<table><tbody><tr><td><p>Ausrichter</p></td><td><p>TSV Harburg, Freundeskre
 is Bocksportfest</p></td></tr><tr><td><p>Ort</p></td><td><p>„Bock“ bei Harb
 urg, Landkreis Donau-Ries</p></td></tr><tr><td>Zeitplan</td><td><p>09.00 Uh
 r: Eröffnung am Ehrenmal</p><p>09.30 Uhr: Wettkampf W01 bis W07</p><p>10.30
  Uhr: Wettkampf W08 bis W13</p><p>ab 12.00 Uhr: W21 Staffeln „Rund um den B
 ock“</p><p>                      W22 Steinstoß-Staffeln</p><p>             
          W23 Maßkrug-Staffeln</p><p>ab 12.30 Uhr: Siegerehrung</p></td></tr
 ><tr><td>Zusätzlich</td><td><p>Während der Wettkämpfe am Vormittag können a
 lle Teilnehmer und Besucher des Bocksportfestes bei alten Kinderspielen mit
 machen</p></td></tr><tr><td>Anmeldung</td><td><p>Rosa Wersinger</p><p>Donau
 wörther Str. 4, 86655 Harburg</p><p>Telefon: 09080 /1543 und 0152/53810287<
 /p><p>E-Mail: <joomla-hidden-mail  is-link="1" is-email="1" first="ci53ZXJz
 aW5nZXI=" last="Z214LmRl" text="ci53ZXJzaW5nZXJAZ214LmRl" base=""  target="
 _blank" rel="noopener">Diese E-Mail-Adresse ist vor Spambots geschützt! Zur
  Anzeige muss JavaScript eingeschaltet sein.</joomla-hidden-mail></p></td><
 /tr><tr><td>Nachmeldung vor Ort</td><td>bis spätestens eine Stunde vor Wett
 kampfbeginn</td></tr><tr><td>Meldegebühren</td><td><p>Erwachsene ab 18 J. 4
 ,00 €</p><p>Jugendliche 12-18 J. 2,00 €</p><p>Kinder bis 12 J. 1,00 €</p></
 td></tr><tr><td>Auszeichnungen</td><td><p>Wanderpreise für die Sieger der W
 ettkämpfe W01 und W01a</p><p>W 01: <strong>Steinbock</strong>, W 01a: <stro
 ng>Gämse</strong></p></td></tr><tr><td>Ehrenpreise</td><td><p>für die Einze
 l- und Staffelsieger</p><p>Urkunden für alle Teilnehmer</p></td></tr><tr><t
 d>Sonstiges</td><td><p>Zelten ist nur auf dem sog. „Bockfestplatz“ unterhal
 b des Sendeturmes erlaubt (bitte unbedingt beachten)</p><p>Wasser, Strom un
 d Toiletten sind dort vorhanden.</p></td></tr><tr><td>Achtung</td><td><stro
 ng>Das Gebiet um den „Bock“ ist Landschaftsschutzgebiet und bedarf daher be
 sonderer Schonung! Selbständige Müllentsorgung.</strong></td></tr></tbody><
 /table><p> </p><p>Wir laden euch alle zum diesjährigen Bocksportfest recht 
 herzlich ein und würden uns über zahlreiche Beteiligung sehr freuen.</p><p>
  </p><p><span style="font-size: 12pt;"><strong>Wettkämpfe</strong></span></
 p><table><tbody><tr><td><b>W01 </b></td><td>6-Kampf Männer<br />alle Jahrgä
 nge</td><td> </td><td>100 m, Weitsprung, Steinstoß, Schleuderball (1,5kg), 
 Geländelauf, Hindernisbahn</td></tr><tr><td><b>W01a </b></td><td>6-Kampf Fr
 auen<br />alle Jahrgänge</td><td> </td><td>100m, Weitsprung, Steinstoß, Sch
 leuderball (1kg), Geländelauf, Hindernisbahn</td></tr><tr><td><b>W02</b></t
 d><td>4-Kampf Männer<br />alle Jahrgänge</td><td> </td><td>100m, Weitsprung
 , Steinstoß, Schleuderball (1,5kg)</td></tr><tr><td><b>W03</b></td><td>4-Ka
 mpf Frauen<br />alle Jahrgänge</td><td> </td><td>100m, Weitsprung, Steinsto
 ß, Schleuderball (1kg)</td></tr><tr><td><b>W04</b></td><td>5-Kampf männl. J
 gd. A<br />Jahrgang 04+05</td><td> </td><td>100m, Weitsprung, Steinstoß, Sc
 hleuderball (1kg), Geländelauf</td></tr><tr><td><b>W05</b></td><td>5-Kampf 
 männl. Jgd. B<br />Jahrgang 06+07</td><td> </td><td>100m, Weitsprung, Stein
 stoß</td></tr><tr><td><b>W06</b></td><td>4-Kampf weibl. Jgd. A<br />Jahrgan
 g 04+05</td><td> </td><td>100m, Weitsprung, Steinstoß, Schleuderball (1kg)<
 /td></tr><tr><td><b>W07</b></td><td>4-Kampf weibl. Jgd. B<br />Jahrgang 06+
 07</td><td> </td><td>100m, Weitsprung, Steinstoß</td></tr><tr><td><b>W08</b
 ></td><td>4-Kampf Männer 30-39<br />Jahrgang 92-83</td><td> </td><td>100m, 
 Weitsprung, Steinstoß, Schleuderball</td></tr><tr><td><b>W09</b></td><td>4-
 Kampf Männer 40-49<br />Jahrgang 82-73</td><td> </td><td>75m, Weitsprung (n
 ach Wahl aus dem Stand), Steinstoß, Schleuderball</td></tr><tr><td><b>W10</
 b></td><td>4-Kampf Männer 50-59<br />Jahrgang 72-63</td><td> </td><td>50m, 
 Weitsprung aus dem Stand, Steinstoß, Schleuderball</td></tr><tr><td><b>W11<
 /b></td><td>4-Kampf Männer 60-69<br />Jahrgang 62-53</td><td> </td><td>50m,
  Weitsprung aus dem Stand, Steinstoß, Schleuderball</td></tr><tr><td><b>W11
 a</b></td><td>4-Kampf Männer<br />Jahrgang 52 und älter</td><td> </td><td>5
 0m, Weitsprung aus dem Stand, Steinstoß, Schleuderball</td></tr><tr><td><b>
 W12a</b></td><td>3-Kampf Schüler A<br />Jahrgang 08+09</td><td> </td><td>10
 0m, Weitsprung, Schlagball (200g)</td></tr><tr><td><b>W12b</b></td><td>3-Ka
 mpf Schüler B<br />Jahrgang 10+11</td><td> </td><td>75m, Weitsprung, Schlag
 ball (80g)</td></tr><tr><td><b>W12c</b></td><td>3-Kampf Schüler C<br />Jahr
 gang 12+13</td><td> </td><td>50m, Weitsprung, Schlagball (80g)</td></tr><tr
 ><td><b>W12d</b></td><td>3-Kampf Schüler D<br />Jahrgang 14+15</td><td> </t
 d><td>50m, Weitsprung, Schlagball (80g)</td></tr><tr><td><b>W12e</b></td><t
 d>3-Kampf Schüler E<br />Jahrgang 16 und jünger</td><td> </td><td>50m, Weit
 sprung, Schlagball (80g)</td></tr><tr><td><b>W13a</b></td><td>3-Kampf Schül
 erinnen A<br />Jahrgang 09+08</td><td> </td><td>100m, Weitsprung, Schlagbal
 l 80g)</td></tr><tr><td><b>W13b</b></td><td>3-Kampf Schülerinnen B<br />Jah
 rgang 10+11</td><td> </td><td>75m, Weitsprung, Schlagball(80g)</td></tr><tr
 ><td><b>W13c</b></td><td>3-Kampf Schülerinnen C<br />Jahrgang 12+13</td><td
 > </td><td>50m, Weitsprung, Schlagball (80g)</td></tr><tr><td><b>W13d</b></
 td><td>3-Kampf Schülerinnen D<br />Jahrgang 14+15</td><td> </td><td>50m, We
 itsprung, Schlagball (80g)</td></tr><tr><td><b>W13e </b></td><td>3-Kampf Sc
 hülerinnen E<br />Jahrgang 16 und jünger</td><td> </td><td>50m, Weitsprung,
  Schlagball (80g)</td></tr><tr><td><b>W21</b></td><td>Staffeln „Rund um den
  Bock“</td><td> </td><td> (4 x ca. 140m)</td></tr><tr><td><b>W22</b></td><t
 d>Steinstoß-Staffeln</td><td> </td><td>(6 Werfer)</td></tr><tr><td><b>W23</
 b></td><td>Maßkrug-Staffeln (6 x 30m)<br />offen für alle Jahrgänge</td><td
 > </td><td>als Staffelstab dient ein mit Wasser gefüllter Maßkrug<br />Ents
 cheidend für die Wertung ist:<ol><li>die gelaufene Zeit</li><li>die nach Zi
 eleinlauf noch vorhandene Wassermenge</li></ol>(1cm Verlust = 2 Strafsekund
 en)</td></tr></tbody></table> <a href="https://lg-donau-ries.de/index.php/c
 omponent/jevents/icalrepeat.detail/2023/09/17/175/-/bocksportfest-2023?Item
 id=1&amp;tmpl=component">This event was imported from: https://lg-donau-rie
 s.de/index.php/component/jevents/icalrepeat.detail/2023/09/17/175/-/bockspo
 rtfest-2023?Itemid=1&amp;tmpl=component</a>DTSTAMP:20260423T065013
DTSTART;TZID=Europe/Berlin:20230917T090000
SEQUENCE:0
TRANSP:OPAQUE
END:VEVENT
END:VCALENDAR