BEGIN:VCALENDAR
VERSION:2.0
PRODID:-//jEvents 2.0 for Joomla//EN
CALSCALE:GREGORIAN
METHOD:PUBLISH
BEGIN:VTIMEZONE
TZID:Europe/Berlin
BEGIN:STANDARD
DTSTART:20221030T020000
RDATE:20230326T030000
TZOFFSETFROM:+0200
TZOFFSETTO:+0100
TZNAME:Europe/Berlin CET
END:STANDARD
BEGIN:STANDARD
DTSTART:20231029T020000
RDATE:20240331T030000
TZOFFSETFROM:+0200
TZOFFSETTO:+0100
TZNAME:Europe/Berlin CET
END:STANDARD
BEGIN:STANDARD
DTSTART:20241027T020000
RDATE:20250330T030000
TZOFFSETFROM:+0200
TZOFFSETTO:+0100
TZNAME:Europe/Berlin CET
END:STANDARD
BEGIN:STANDARD
DTSTART:20251026T020000
RDATE:20260329T030000
TZOFFSETFROM:+0200
TZOFFSETTO:+0100
TZNAME:Europe/Berlin CET
END:STANDARD
BEGIN:DAYLIGHT
DTSTART:20220923T100000
RDATE:20221030T020000
TZOFFSETFROM:+0100
TZOFFSETTO:+0200
TZNAME:Europe/Berlin CEST
END:DAYLIGHT
BEGIN:DAYLIGHT
DTSTART:20230326T030000
RDATE:20231029T020000
TZOFFSETFROM:+0100
TZOFFSETTO:+0200
TZNAME:Europe/Berlin CEST
END:DAYLIGHT
BEGIN:DAYLIGHT
DTSTART:20240331T030000
RDATE:20241027T020000
TZOFFSETFROM:+0100
TZOFFSETTO:+0200
TZNAME:Europe/Berlin CEST
END:DAYLIGHT
BEGIN:DAYLIGHT
DTSTART:20250330T030000
RDATE:20251026T020000
TZOFFSETFROM:+0100
TZOFFSETTO:+0200
TZNAME:Europe/Berlin CEST
END:DAYLIGHT
END:VTIMEZONE
BEGIN:VEVENT
UID:db4756c9f8ba04cfa950a32c7cb30d35
CATEGORIES:DEFAULT
CREATED:20230711T231621
SUMMARY:Wemdinger Herbstlauf
LOCATION:Wemding
URL;VALUE=URI:https://lg-donau-ries.de/index.php/component/jevents/icalrepeat.detail/2023
 /09/24/176/-/wemdinger-herbstlauf?Itemid=1&amp;tmpl=component
DESCRIPTION: \nAusrichter:\nTSV Wemding-LG Märchenwald / LG Donau-Ries\n Startzeiten:\n
 ab 10:00 Uhr\nKurzstrecke ca. 6,4 km\n ab 10:00 Uhr\nHauptstrecke ca. 10 km
 \n \n \n Start und Ziel: \nZimmerei und Holzbau Hönle\nStadelmüllerweg 12\n
 86650 Wemding\n Startgebühren:\nKurzstrecke und Walker\n8,-- Euro\n Hauptst
 recke und Walker\n10,-- Euro\nVoranmeldungen:\nbis 16.09.2023 unter www.lg-
 maerchenwald.de/herbstlauf (https://www.lg-maerchenwald.de/herbstlauf)\n  N
 achmeldungen:Bis 30 Minuten vor dem Start \nSiegerehrung:\nDie ersten drei 
 Damen und Herren von jedem Lauf.\n Ergebnisliste:\nab ca. 17:00 im Internet
 \n Sonstiges:\nUmkleide- und Duschmöglichkeit sind nicht vorhanden.\n \nWei
 tere Infos:\nNorbert Krompaß, Lommersheimer Weg 16\n86650 Wemding, Telefon 
 09092 62 74\nund www.lg-maerchenwald.de (https://www.lg-maerchenwald.de)\n 
  \n This event was imported from: https://lg-donau-ries.de/index.php/compon
 ent/jevents/icalrepeat.detail/2023/09/24/176/-/wemdinger-herbstlauf?Itemid=
 1&amp;tmpl=component
X-ALT-DESC;FMTTYPE=text/html:<p> </p><table border="1" cellspacing="cellspacing" cellpadding="cellpaddin
 g"><tbody><tr><td valign="top" width="205"><p><b>Ausrichter:</b></p></td><t
 d valign="top" width="303"><p><strong>TSV Wemding-LG Märchenwald / LG Donau
 -Ries</strong></p></td><td valign="top" width="106"> </td></tr><tr><td vali
 gn="top" width="205"><p><b>Startzeiten:</b></p></td><td valign="top" width=
 "303"><p><b>ab 10:00 Uhr</b></p></td><td valign="top" width="106"><p><stron
 g>Kurzstrecke ca. 6,4 km</strong></p></td></tr><tr><td valign="top" width="
 205"> </td><td valign="top" width="303"><p><b>ab 10:00 Uhr</b></p></td><td 
 valign="top" width="106"><p><strong>Hauptstrecke ca. 10 km</strong></p></td
 ></tr><tr><td valign="top" width="205"><p> </p></td><td valign="top" width=
 "303"><p> </p></td><td valign="top" width="106"> </td></tr><tr><td valign="
 top" width="205"><p><b>Start und Ziel: </b></p></td><td valign="top" width=
 "303"><p><strong>Zimmerei und Holzbau Hönle</strong></p><p><strong>Stadelmü
 llerweg 12</strong></p><p><strong>86650 Wemding</strong></p></td><td valign
 ="top" width="106"> </td></tr><tr><td valign="top" width="205"><p><b>Startg
 ebühren:</b></p></td><td valign="top" width="303"><p><strong>Kurzstrecke un
 d Walker</strong></p></td><td valign="top" width="106"><p align="right"><st
 rong>8,-- Euro</strong></p></td></tr><tr><td valign="top" width="205"> </td
 ><td valign="top" width="303"><p><strong>Hauptstrecke und Walker</strong></
 p></td><td valign="top" width="106"><p align="right"><strong>10,-- Euro</st
 rong></p></td></tr><tr><td valign="top" width="205"><p><b>Voranmeldungen:</
 b></p></td><td valign="top" width="303"><p><strong>bis 16.09.2023 unter <a 
 href="https://www.lg-maerchenwald.de/herbstlauf" target="_blank" rel="noope
 ner noreferrer">www.lg-maerchenwald.de/herbstlauf</a></strong></p></td><td 
 valign="top" width="106"> </td></tr><tr><td valign="top" width="205"> Nachm
 eldungen:</td><td valign="top" width="303">Bis 30 Minuten vor dem Start</td
 ><td valign="top" width="106"><p align="right"><b> </b></p></td></tr><tr><t
 d valign="top" width="205"><p><b>Siegerehrung:</b></p></td><td valign="top"
  width="303"><p><strong>Die ersten drei Damen und Herren von jedem Lauf.</s
 trong></p></td><td valign="top" width="106"> </td></tr><tr><td valign="top"
  width="205"><p><strong>Ergebnisliste:</strong></p></td><td valign="top" wi
 dth="303"><p><strong>ab ca. 17:00 im Internet</strong></p></td><td valign="
 top" width="106"> </td></tr><tr><td valign="top" width="205"><p><b>Sonstige
 s:</b></p></td><td valign="top" width="303"><p><strong>Umkleide- und Duschm
 öglichkeit sind nicht vorhanden.</strong></p></td><td valign="top" width="1
 06"><p> </p></td></tr><tr><td valign="top" width="205"><p><b><strong>Weiter
 e Infos:</strong></b></p></td><td valign="top" width="303"><p><strong>Norbe
 rt Krompaß, Lommersheimer Weg 16</strong></p><p><strong>86650 Wemding, </st
 rong><strong>Telefon 09092 62 74</strong></p><p><strong>und <a href="https:
 //www.lg-maerchenwald.de" target="_blank" rel="noopener noreferrer">www.lg-
 maerchenwald.de</a></strong></p></td><td valign="top" width="106"> </td></t
 r></tbody></table><p> </p> <a href="https://lg-donau-ries.de/index.php/comp
 onent/jevents/icalrepeat.detail/2023/09/24/176/-/wemdinger-herbstlauf?Itemi
 d=1&amp;tmpl=component">This event was imported from: https://lg-donau-ries
 .de/index.php/component/jevents/icalrepeat.detail/2023/09/24/176/-/wemdinge
 r-herbstlauf?Itemid=1&amp;tmpl=component</a>DTSTAMP:20260423T065013
DTSTART;TZID=Europe/Berlin:20230924T100000
SEQUENCE:0
TRANSP:OPAQUE
END:VEVENT
END:VCALENDAR