BEGIN:VCALENDAR
VERSION:2.0
PRODID:-//jEvents 2.0 for Joomla//EN
CALSCALE:GREGORIAN
METHOD:PUBLISH
BEGIN:VTIMEZONE
TZID:Europe/Berlin
BEGIN:STANDARD
DTSTART:20221030T020000
RDATE:20230326T030000
TZOFFSETFROM:+0200
TZOFFSETTO:+0100
TZNAME:Europe/Berlin CET
END:STANDARD
BEGIN:STANDARD
DTSTART:20231029T020000
RDATE:20240331T030000
TZOFFSETFROM:+0200
TZOFFSETTO:+0100
TZNAME:Europe/Berlin CET
END:STANDARD
BEGIN:STANDARD
DTSTART:20241027T020000
RDATE:20250330T030000
TZOFFSETFROM:+0200
TZOFFSETTO:+0100
TZNAME:Europe/Berlin CET
END:STANDARD
BEGIN:STANDARD
DTSTART:20251026T020000
RDATE:20260329T030000
TZOFFSETFROM:+0200
TZOFFSETTO:+0100
TZNAME:Europe/Berlin CET
END:STANDARD
BEGIN:DAYLIGHT
DTSTART:20220930T094500
RDATE:20221030T020000
TZOFFSETFROM:+0100
TZOFFSETTO:+0200
TZNAME:Europe/Berlin CEST
END:DAYLIGHT
BEGIN:DAYLIGHT
DTSTART:20230326T030000
RDATE:20231029T020000
TZOFFSETFROM:+0100
TZOFFSETTO:+0200
TZNAME:Europe/Berlin CEST
END:DAYLIGHT
BEGIN:DAYLIGHT
DTSTART:20240331T030000
RDATE:20241027T020000
TZOFFSETFROM:+0100
TZOFFSETTO:+0200
TZNAME:Europe/Berlin CEST
END:DAYLIGHT
BEGIN:DAYLIGHT
DTSTART:20250330T030000
RDATE:20251026T020000
TZOFFSETFROM:+0100
TZOFFSETTO:+0200
TZNAME:Europe/Berlin CEST
END:DAYLIGHT
END:VTIMEZONE
BEGIN:VEVENT
UID:61da52473ce9874b0ded9294c38cb5c8
CATEGORIES:DEFAULT
CREATED:20230731T223334
SUMMARY:Schwäbische Mannschaftsmeisterschaften Männer – Frauen – m./w. Jugend U20 / U18 / U16
LOCATION:Donauwörth
URL;VALUE=URI:https://lg-donau-ries.de/index.php/component/jevents/icalrepeat.detail/2023
 /10/01/178/-/schwaebische-mannschaftsmeisterschaften-maenner-frauen-m-w-jug
 end-u20-u18-u16?Itemid=1&amp;tmpl=component
DESCRIPTION: \n Männer – Frauen – m./w. Jugend U20 / U18 / U16\nTermin: Sonntag, 01.10.
 2023 - Beginn: 09:45 Uhr\n \nAusrichter:\nLG Donau-Ries/LG Zusam\nWettkampf
 ort:\nStauferparkstadion (Neudegger Allee) in Donauwörth\nWettbewerbe:\n \n
 Meisterschaften:\nMänner/Frauen (Gruppe 3)\nJugend (m/w) U20 u. U18 (Gruppe
  2)\nJugend (m/w) U16 (Gruppe 3)\nRahmenwettbewerbe:\nJugend (m/w) U18/U20 
 (Gruppe 3)\nWettkampfbeginn:\n09:45 Uhr\nMeldungen:\n \nSchriftlich bis spä
 testens 22.09.2023 an\nJochen Weber, Deutschmeisterring 61, 86609 Donauwört
 h\nE-Mail:  Diese E-Mail-Adresse ist vor Spambots geschützt! Zur Anzeige mu
 ss JavaScript eingeschaltet sein.\nOnline Meldung unter LADV\nErgebnisliste
 n:\nab 02.10.2023 unter vsc-don-la.de (https://vsc-don-la.de)\nHinweise:\n\
 n - Da sich die Anmeldeaktion in den letzten Jahren bewährt hat, gilt diese
  auch für das Jahr 2023.\nDies bedeutet, dass nur der Name, der Vorname und
  der Jahrgang der Teilnehmer(innen) und keine Disziplinen in den einzelnen 
 Klassen gemeldet werden.\n - Die Vereine erhalten dann bis spätestens 27.09
 .2023 die Stellplatzkarten mit den entsprechenden Startnummern per Mail zug
 eschickt. Die Stellplatzkarten müssen dann von den Vereinen ergänzt werden 
 und sind dann am Wettkampftag bis 75 Minuten vor Wettkampfbeginn am Stellpl
 atz abzugeben. Bei Abmeldung einer Mannschaft nach Versenden der Startkarte
 n ist trotzdem die Hälfte der Startgebühr für diese Mannschaft zu entrichte
 n.\n - Jeder Verein kann pro Disziplin höchstens vier Teilnehmer(innen) und
  zwei Staffeln melden.\n - Teilnehmer(innen) können nur in einer Altersklas
 se und einer Mannschaft starten.\n - Wertung und Teilnehmer nach DLV Stand 
 1.1.2012!Zeitplan DMM:\n \nZeit\nMänner\nFrauen\nm. Jgd U20\nm. Jgd U18\nw.
  Jgd U20\nw. Jgd U18\nm. Jgd U16\nw. Jgd U16\n09.45\n    Speer\nSpeer\n  10
 .00\nHoch\n100m \n \n \n \n \n \nKugel \n10.15\n \n \n \n \n \n \n \n \n10.
 30\n 800m\n \n \n \n \n \n \n \n10.40\n \n \n4x100m *\nSpeer\n \n \n \n \n1
 0.50\n \n \n \n \n \n \nWeit\n 4x100m\n11.00\n \n \n \n \n4x100m *\n4x100m 
 *\n \n \n11.15\n \n 4x100m\n \n \n Kugel *\nKugel * \n \n \n11.30\n \n \n \
 n4x100m*\n \n \n \n \n11.45\n4x100m\n \n \n \n \n \n \n \n12.00\n \nDiskus\
 nWeit *\nWeit *\n800m *\n800m *\n \n \n12.15\nKugel\n \n \n \nHoch\nHoch\n4
 x100m\n \n12.30\n \n \n \n \n \n \n \n 800m\n12.45\n \n \n400m\n \n \n \n \
 n \n13.00\n100m\n \n \n \n \n \n \n \n13.15\n \nHoch\nKugel *\nKugel *\n \n
  \n100m\nWeit\n13.30\nDiskus\n \n \n \n100m *\n100m *\n \n \n13.45\n \n \n1
 00m *\n100m *\n \n \n \n \n14.00\n \n \n \n \n \n \n \n \n14.15\nWeit\n \nH
 och\nHoch\n \n \n \n100m\n14.30\n \nKugel\n \n \nDiskus\n \n 800m\n \n14.45
 \n400m\n \n \n \n \n \n \n \n15.00\n \n800m\n \n \nWeit *\nWeit *\n \n \n15
 .15\n \n \n800m *\n800m *\n \n \nKugel\n \n15.30\n5000m \nWeit\nDiskus\n \n
  \n \n \n \nMit * sind die Disziplinen der Gruppe 3 (Jugend U18/U20) gekenn
 zeichnet\n \n This event was imported from: https://lg-donau-ries.de/index.
 php/component/jevents/icalrepeat.detail/2023/10/01/178/-/schwaebische-manns
 chaftsmeisterschaften-maenner-frauen-m-w-jugend-u20-u18-u16?Itemid=1&amp;tm
 pl=component
X-ALT-DESC;FMTTYPE=text/html:<p><span style="color: #ff0000;"> </span></p><table style="border-color: #0
 00000;" border="1" cellspacing="?" cellpadding="?"><tbody><tr><td valign="t
 op" width="529"><p><strong> Männer – Frauen – m./w. Jugend U20 / U18 / U16<
 /strong></p><p>Termin: Sonntag, 01.10.2023 - Beginn: 09:45 Uhr</p></td><td 
 valign="top" width="114"><p><strong> </strong></p></td></tr></tbody></table
 ><table border="1" cellspacing="?" cellpadding="?"><tbody><tr><td valign="t
 op" width="206"><p><strong>Ausrichter:</strong></p></td><td valign="top" wi
 dth="437"><p><strong>LG Donau-Ries/LG Zusam</strong></p></td></tr><tr><td v
 align="top" width="206"><p><strong>Wettkampfort:</strong></p></td><td valig
 n="top" width="437"><p><strong>Stauferparkstadion (Neudegger Allee) in Dona
 uwörth</strong></p></td></tr><tr><td rowspan="2" valign="top" width="206"><
 p><strong>Wettbewerbe:</strong></p><p><strong> </strong></p></td><td valign
 ="top" width="437"><p><strong>Meisterschaften:</strong></p><p><strong>Männe
 r/Frauen (Gruppe 3)</strong></p><p><strong>Jugend (m/w) U20 u. U18 (Gruppe 
 2)</strong></p><p><strong>Jugend (m/w) U16 (Gruppe 3)</strong></p></td></tr
 ><tr><td valign="top" width="437"><p><strong>Rahmenwettbewerbe:</strong></p
 ><p><strong>Jugend (m/w) U18/U20 (Gruppe 3)</strong></p></td></tr><tr><td v
 align="top" width="206"><p><strong>Wettkampfbeginn:</strong></p></td><td va
 lign="top" width="437"><p><strong>09:45 Uhr</strong></p></td></tr><tr><td v
 align="top" width="206"><p><strong>Meldungen:</strong></p><p> </p></td><td 
 valign="top" width="437"><p><strong>Schriftlich bis spätestens 22.09.2023 a
 n</strong></p><p><strong>Jochen Weber, Deutschmeisterring 61, 86609 Donauwö
 rth</strong></p><p><strong>E-Mail: </strong> <strong><joomla-hidden-mail  i
 s-link="1" is-email="1" first="d2ViZXJqb2NoZW4=" last="Z214LmRl" text="d2Vi
 ZXJqb2NoZW5AZ214LmRl" base="" >Diese E-Mail-Adresse ist vor Spambots geschü
 tzt! Zur Anzeige muss JavaScript eingeschaltet sein.</joomla-hidden-mail></
 strong></p><p><strong>Online Meldung unter LADV</strong></p></td></tr><tr><
 td valign="top" width="206"><p><strong>Ergebnislisten:</strong></p></td><td
  valign="top" width="437"><p><strong>ab 02.10.2023 unter <a href="https://v
 sc-don-la.de" target="_blank" rel="noopener noreferrer">vsc-don-la.de</a></
 strong></p></td></tr><tr><td valign="top" width="206"><p><strong>Hinweise:<
 /strong></p></td><td valign="top" width="437"><ol><li>Da sich die Anmeldeak
 tion in den letzten Jahren bewährt hat, gilt diese auch für das Jahr 2023.<
 br />Dies bedeutet, dass nur der Name, der Vorname und der Jahrgang der Tei
 lnehmer(innen) und <span style="text-decoration: underline;">keine Diszipli
 nen</span> in den einzelnen Klassen gemeldet werden.</li><li>Die Vereine er
 halten dann bis spätestens 27.09.2023 die Stellplatzkarten mit den entsprec
 henden Startnummern per Mail zugeschickt. Die Stellplatzkarten müssen dann 
 von den Vereinen ergänzt werden und sind dann am Wettkampftag bis 75 Minute
 n vor Wettkampfbeginn am Stellplatz abzugeben. Bei Abmeldung einer Mannscha
 ft nach Versenden der Startkarten ist trotzdem die Hälfte der Startgebühr f
 ür diese Mannschaft zu entrichten.</li><li>Jeder Verein kann pro Disziplin 
 höchstens vier Teilnehmer(innen) und zwei Staffeln melden.</li><li>Teilnehm
 er(innen) können nur in einer Altersklasse und einer Mannschaft starten.</l
 i><li>Wertung und Teilnehmer nach DLV Stand 1.1.2012!</li></ol></td></tr></
 tbody></table><p><strong><span style="text-decoration: underline;">Zeitplan
  DMM:</span></strong></p><p> </p><table border="1" rules="all" cellspacing=
 "cellspacing" cellpadding="cellpadding"><thead><tr><td valign="top" width="
 44"><p align="center"><strong>Zeit</strong></p></td><td valign="top" width=
 "69"><p align="center"><strong>Männer</strong></p></td><td valign="top" wid
 th="70"><p align="center"><strong>Frauen</strong></p></td><td valign="top" 
 width="70"><p align="center"><strong>m. Jgd U20</strong></p></td><td valign
 ="top" width="69"><p align="center"><strong>m. Jgd U18</strong></p></td><td
  valign="top" width="70"><p align="center"><strong>w. Jgd U20</strong></p><
 /td><td valign="top" width="69"><p align="center"><strong>w. Jgd U18</stron
 g></p></td><td valign="top" width="86"><p align="center"><strong>m. Jgd U16
 </strong></p></td><td valign="top" width="94"><p align="center"><strong>w. 
 Jgd U16</strong></p></td></tr></thead><tbody><tr><td valign="top" width="44
 "><p align="center"><strong>09.45</strong></p></td><td valign="top" width="
 69"> </td><td valign="top" width="70"> </td><td valign="top" width="70"> </
 td><td style="width: 69px;" valign="top" width="69"> </td><td valign="top" 
 width="70"><p align="center">Speer</p></td><td valign="top" width="69"><p a
 lign="center">Speer</p></td><td valign="top" width="86"> </td><td valign="t
 op" width="94"> </td></tr><tr><td valign="top" width="44"><p align="center"
 ><strong>10.00</strong></p></td><td valign="top" width="69"><p align="cente
 r">Hoch</p></td><td valign="top" width="70"><p align="center">100m </p></td
 ><td valign="top" width="70"><p align="center"> </p></td><td valign="top" w
 idth="69"><p align="center"> </p></td><td valign="top" width="70"><p align=
 "center"> </p></td><td valign="top" width="69"><p align="center"> </p></td>
 <td valign="top" width="86"><p align="center"> </p></td><td valign="top" wi
 dth="94"><p align="center">Kugel </p></td></tr><tr><td valign="top" width="
 44"><p align="center"><strong>10.15</strong></p></td><td valign="top" width
 ="69"><p align="center"> </p></td><td valign="top" width="70"><p align="cen
 ter"> </p></td><td valign="top" width="70"><p align="center"> </p></td><td 
 valign="top" width="69"><p align="center"> </p></td><td valign="top" width=
 "70"><p align="center"> </p></td><td valign="top" width="69"><p align="cent
 er"> </p></td><td valign="top" width="86"><p align="center"> </p></td><td v
 align="top" width="94"><p align="center"> </p></td></tr><tr><td valign="top
 " width="44"><p align="center"><strong>10.30</strong></p></td><td valign="t
 op" width="69"><p align="center"> 800m</p></td><td valign="top" width="70">
 <p align="center"> </p></td><td valign="top" width="70"><p align="center"> 
 </p></td><td valign="top" width="69"><p align="center"> </p></td><td valign
 ="top" width="70"><p align="center"> </p></td><td valign="top" width="69"><
 p align="center"> </p></td><td valign="top" width="86"><p align="center"> <
 /p></td><td valign="top" width="94"><p align="center"> </p></td></tr><tr><t
 d valign="top" width="44"><p align="center"><strong>10.40</strong></p></td>
 <td valign="top" width="69"><p align="center"> </p></td><td valign="top" wi
 dth="70"><p align="center"> </p></td><td valign="top" width="70"><p align="
 center">4x100m *</p></td><td valign="top" width="69"><p align="center">Spee
 r</p></td><td valign="top" width="70"><p align="center"> </p></td><td valig
 n="top" width="69"><p align="center"> </p></td><td valign="top" width="86">
 <p align="center"> </p></td><td valign="top" width="94"><p align="center"> 
 </p></td></tr><tr><td valign="top" width="44"><p align="center"><strong>10.
 50</strong></p></td><td valign="top" width="69"><p align="center"> </p></td
 ><td valign="top" width="70"><p align="center"> </p></td><td valign="top" w
 idth="70"><p align="center"> </p></td><td valign="top" width="69"><p align=
 "center"> </p></td><td valign="top" width="70"><p align="center"> </p></td>
 <td valign="top" width="69"><p align="center"> </p></td><td valign="top" wi
 dth="86"><p align="center">Weit</p></td><td valign="top" width="94"><p alig
 n="center"> 4x100m</p></td></tr><tr><td valign="top" width="44"><p align="c
 enter"><strong>11.00</strong></p></td><td valign="top" width="69"><p align=
 "center"> </p></td><td valign="top" width="70"><p align="center"> </p></td>
 <td valign="top" width="70"><p align="center"> </p></td><td valign="top" wi
 dth="69"><p align="center"> </p></td><td valign="top" width="70"><p align="
 center">4x100m *</p></td><td valign="top" width="69"><p align="center">4x10
 0m *</p></td><td valign="top" width="86"><p align="center"> </p></td><td va
 lign="top" width="94"><p align="center"> </p></td></tr><tr><td valign="top"
  width="44"><p align="center"><strong>11.15</strong></p></td><td valign="to
 p" width="69"><p align="center"> </p></td><td valign="top" width="70"><p al
 ign="center"> 4x100m</p></td><td valign="top" width="70"><p align="center">
  </p></td><td valign="top" width="69"><p align="center"> </p></td><td valig
 n="top" width="70"><p align="center"> Kugel *</p></td><td valign="top" widt
 h="69"><p align="center">Kugel * </p></td><td valign="top" width="86"><p al
 ign="center"> </p></td><td valign="top" width="94"><p align="center"> </p><
 /td></tr><tr><td valign="top" width="44"><p align="center"><strong>11.30</s
 trong></p></td><td valign="top" width="69"><p align="center"> </p></td><td 
 valign="top" width="70"><p align="center"> </p></td><td valign="top" width=
 "70"><p align="center"> </p></td><td valign="top" width="69"><p align="cent
 er">4x100m*</p></td><td valign="top" width="70"><p align="center"> </p></td
 ><td valign="top" width="69"><p align="center"> </p></td><td valign="top" w
 idth="86"><p align="center"> </p></td><td valign="top" width="94"><p align=
 "center"> </p></td></tr><tr><td valign="top" width="44"><p align="center"><
 strong>11.45</strong></p></td><td valign="top" width="69"><p align="center"
 >4x100m</p></td><td valign="top" width="70"><p align="center"> </p></td><td
  valign="top" width="70"><p align="center"> </p></td><td valign="top" width
 ="69"><p align="center"> </p></td><td valign="top" width="70"><p align="cen
 ter"> </p></td><td valign="top" width="69"><p align="center"> </p></td><td 
 valign="top" width="86"><p align="center"> </p></td><td valign="top" width=
 "94"><p align="center"> </p></td></tr><tr><td valign="top" width="44"><p al
 ign="center"><strong>12.00</strong></p></td><td valign="top" width="69"><p 
 align="center"> </p></td><td valign="top" width="70"><p align="center">Disk
 us</p></td><td valign="top" width="70"><p align="center">Weit *</p></td><td
  valign="top" width="69"><p align="center">Weit *</p></td><td valign="top" 
 width="70"><p align="center">800m *</p></td><td valign="top" width="69"><p 
 align="center">800m *</p></td><td valign="top" width="86"><p align="center"
 > </p></td><td valign="top" width="94"><p align="center"> </p></td></tr><tr
 ><td valign="top" width="44"><p align="center"><strong>12.15</strong></p></
 td><td valign="top" width="69"><p align="center">Kugel</p></td><td valign="
 top" width="70"><p align="center"> </p></td><td valign="top" width="70"><p 
 align="center"> </p></td><td valign="top" width="69"><p align="center"> </p
 ></td><td valign="top" width="70"><p align="center">Hoch</p></td><td valign
 ="top" width="69"><p align="center">Hoch</p></td><td valign="top" width="86
 "><p align="center">4x100m</p></td><td valign="top" width="94"><p align="ce
 nter"><strong> </strong></p></td></tr><tr><td valign="top" width="44"><p al
 ign="center"><strong>12.30</strong></p></td><td valign="top" width="69"><p 
 align="center"> </p></td><td valign="top" width="70"><p align="center"> </p
 ></td><td valign="top" width="70"><p align="center"> </p></td><td valign="t
 op" width="69"><p align="center"> </p></td><td valign="top" width="70"><p a
 lign="center"> </p></td><td valign="top" width="69"><p align="center"> </p>
 </td><td valign="top" width="86"><p align="center"> </p></td><td valign="to
 p" width="94"><p align="center"> 800m</p></td></tr><tr><td valign="top" wid
 th="44"><p align="center"><strong>12.45</strong></p></td><td valign="top" w
 idth="69"><p align="center"> </p></td><td valign="top" width="70"><p align=
 "center"> </p></td><td valign="top" width="70"><p align="center">400m</p></
 td><td valign="top" width="69"><p align="center"> </p></td><td valign="top"
  width="70"><p align="center"> </p></td><td valign="top" width="69"><p alig
 n="center"> </p></td><td valign="top" width="86"><p align="center"> </p></t
 d><td valign="top" width="94"><p align="center"><strong> </strong></p></td>
 </tr><tr><td valign="top" width="44"><p align="center"><strong>13.00</stron
 g></p></td><td valign="top" width="69"><p align="center">100m</p></td><td v
 align="top" width="70"><p align="center"> </p></td><td valign="top" width="
 70"><p align="center"> </p></td><td valign="top" width="69"><p align="cente
 r"> </p></td><td valign="top" width="70"><p align="center"> </p></td><td va
 lign="top" width="69"><p align="center"> </p></td><td valign="top" width="8
 6"><p align="center"> </p></td><td valign="top" width="94"><p align="center
 "><strong> </strong></p></td></tr><tr><td valign="top" width="44"><p align=
 "center"><strong>13.15</strong></p></td><td valign="top" width="69"><p alig
 n="center"> </p></td><td valign="top" width="70"><p align="center">Hoch</p>
 </td><td valign="top" width="70"><p align="center">Kugel *</p></td><td vali
 gn="top" width="69"><p align="center">Kugel *</p></td><td valign="top" widt
 h="70"><p align="center"> </p></td><td valign="top" width="69"><p align="ce
 nter"> </p></td><td valign="top" width="86"><p align="center">100m</p></td>
 <td valign="top" width="94"><p align="center">Weit</p></td></tr><tr><td val
 ign="top" width="44"><p align="center"><strong>13.30</strong></p></td><td v
 align="top" width="69"><p align="center">Diskus</p></td><td valign="top" wi
 dth="70"><p align="center"> </p></td><td valign="top" width="70"><p align="
 center"> </p></td><td valign="top" width="69"><p align="center"> </p></td><
 td valign="top" width="70"><p align="center">100m *</p></td><td valign="top
 " width="69"><p align="center">100m *</p></td><td valign="top" width="86"><
 p align="center"> </p></td><td valign="top" width="94"><p align="center"><s
 trong> </strong></p></td></tr><tr><td valign="top" width="44"><p align="cen
 ter"><strong>13.45</strong></p></td><td valign="top" width="69"><p align="c
 enter"> </p></td><td valign="top" width="70"><p align="center"> </p></td><t
 d valign="top" width="70"><p align="center">100m *</p></td><td valign="top"
  width="69"><p align="center">100m *</p></td><td valign="top" width="70"><p
  align="center"> </p></td><td valign="top" width="69"><p align="center"> </
 p></td><td valign="top" width="86"><p align="center"> </p></td><td valign="
 top" width="94"><p align="center"><strong> </strong></p></td></tr><tr><td v
 align="top" width="44"><p align="center"><strong>14.00</strong></p></td><td
  valign="top" width="69"><p align="center"> </p></td><td valign="top" width
 ="70"><p align="center"> </p></td><td valign="top" width="70"><p align="cen
 ter"> </p></td><td valign="top" width="69"><p align="center"> </p></td><td 
 valign="top" width="70"><p align="center"> </p></td><td valign="top" width=
 "69"><p align="center"> </p></td><td valign="top" width="86"><p align="cent
 er"> </p></td><td valign="top" width="94"><p align="center"><strong> </stro
 ng></p></td></tr><tr><td valign="top" width="44"><p align="center"><strong>
 14.15</strong></p></td><td valign="top" width="69"><p align="center">Weit</
 p></td><td valign="top" width="70"><p align="center"> </p></td><td valign="
 top" width="70"><p align="center">Hoch</p></td><td valign="top" width="69">
 <p align="center">Hoch</p></td><td valign="top" width="70"><p align="center
 "> </p></td><td valign="top" width="69"><p align="center"> </p></td><td val
 ign="top" width="86"><p align="center"> </p></td><td valign="top" width="94
 "><p align="center">100m</p></td></tr><tr><td valign="top" width="44"><p al
 ign="center"><strong>14.30</strong></p></td><td valign="top" width="69"><p 
 align="center"> </p></td><td valign="top" width="70"><p align="center">Kuge
 l</p></td><td valign="top" width="70"><p align="center"> </p></td><td valig
 n="top" width="69"><p align="center"> </p></td><td valign="top" width="70">
 <p align="center">Diskus</p></td><td valign="top" width="69"><p align="cent
 er"> </p></td><td valign="top" width="86"><p align="center"> 800m</p></td><
 td valign="top" width="94"><p align="center"> </p></td></tr><tr><td valign=
 "top" width="44"><p align="center"><strong>14.45</strong></p></td><td valig
 n="top" width="69"><p align="center">400m</p></td><td valign="top" width="7
 0"><p align="center"> </p></td><td valign="top" width="70"><p align="center
 "> </p></td><td valign="top" width="69"><p align="center"> </p></td><td val
 ign="top" width="70"><p align="center"> </p></td><td valign="top" width="69
 "><p align="center"> </p></td><td valign="top" width="86"><p align="center"
 > </p></td><td valign="top" width="94"><p align="center"><strong> </strong>
 </p></td></tr><tr><td valign="top" width="44"><p align="center"><strong>15.
 00</strong></p></td><td valign="top" width="69"><p align="center"> </p></td
 ><td valign="top" width="70"><p align="center">800m</p></td><td valign="top
 " width="70"><p align="center"> </p></td><td valign="top" width="69"><p ali
 gn="center"> </p></td><td valign="top" width="70"><p align="center">Weit *<
 /p></td><td valign="top" width="69"><p align="center">Weit *</p></td><td va
 lign="top" width="86"><p align="center"> </p></td><td valign="top" width="9
 4"><p align="center"><strong> </strong></p></td></tr><tr><td valign="top" w
 idth="44"><p align="center"><strong>15.15</strong></p></td><td valign="top"
  width="69"><p align="center"> </p></td><td valign="top" width="70"><p alig
 n="center"> </p></td><td valign="top" width="70"><p align="center">800m *</
 p></td><td valign="top" width="69"><p align="center">800m *</p></td><td val
 ign="top" width="70"><p align="center"> </p></td><td valign="top" width="69
 "><p align="center"> </p></td><td valign="top" width="86"><p align="center"
 >Kugel</p></td><td valign="top" width="94"><p align="center"> </p></td></tr
 ><tr><td valign="top" width="44"><p align="center"><strong>15.30</strong></
 p></td><td valign="top" width="69"><p align="center">5000m </p></td><td val
 ign="top" width="70"><p align="center">Weit</p></td><td valign="top" width=
 "70"><p align="center">Diskus</p></td><td valign="top" width="69"><p align=
 "center"> </p></td><td valign="top" width="70"><p align="center"> </p></td>
 <td valign="top" width="69"><p align="center"> </p></td><td valign="top" wi
 dth="86"><p align="center"> </p></td><td valign="top" width="94"><p align="
 center"> </p></td></tr></tbody></table><p>Mit * sind die Disziplinen der Gr
 uppe 3 (Jugend U18/U20) gekennzeichnet</p><p> </p> <a href="https://lg-dona
 u-ries.de/index.php/component/jevents/icalrepeat.detail/2023/10/01/178/-/sc
 hwaebische-mannschaftsmeisterschaften-maenner-frauen-m-w-jugend-u20-u18-u16
 ?Itemid=1&amp;tmpl=component">This event was imported from: https://lg-dona
 u-ries.de/index.php/component/jevents/icalrepeat.detail/2023/10/01/178/-/sc
 hwaebische-mannschaftsmeisterschaften-maenner-frauen-m-w-jugend-u20-u18-u16
 ?Itemid=1&amp;tmpl=component</a>DTSTAMP:20260423T053506
DTSTART;TZID=Europe/Berlin:20231001T094500
SEQUENCE:0
TRANSP:OPAQUE
END:VEVENT
END:VCALENDAR